BEGIN:VCALENDAR
VERSION:2.0
PRODID:-//sga-youthorg.presencehost.net//NONSGML kigkonsult.se iCalcreator 
 2.30.10//
CALSCALE:GREGORIAN
METHOD:PUBLISH
UID:8aa09da8-bd77-4003-beed-42d2ac875abe
X-WR-CALDESC:Rooted in Mexican tradition\, Día de los Muertos is a joyful d
 ay to remember and honor loved ones who have passed. Far from mourning\, i
 t is a celebration of life filled with color\, music\, and community.\n\nP
 artnering with After School Matters the Chicago Park District\, and DFSS\,
  this FREE celebration unites families and neighbors in Pilsen\, highlight
 ing culture\, remembrance\, and togetherness.\n\nEnjoy live performances\,
  local vendors\, community resources\, and traditional pan de muerto with 
 hot cocoa. \n\nThank you to our sponsor\, Sims Metal.\n\nSCHEDULE\n1:00 - 
 3:00 pm: Arts & Crafts\, Face Painting\, Resources\, Dance Party\, Photobo
 oth\n3:00 - 4:00 pm: Music & Dance Performances\n4:00 - 4:30 pm: Pan Dulce
  & Hot Cocoa\n\nContact hello@sga-youth.org with any questions.
X-WR-RELCALID:654dfb607ca9376b7eff532587421cb7
X-WR-TIMEZONE:America/Chicago
BEGIN:VTIMEZONE
TZID:America/Chicago
BEGIN:STANDARD
TZNAME:CST
DTSTART:20241103T020000
TZOFFSETFROM:-0500
TZOFFSETTO:-0600
RDATE:20251102T020000
RDATE:20261101T020000
END:STANDARD
BEGIN:DAYLIGHT
TZNAME:CDT
DTSTART:20250309T020000
TZOFFSETFROM:-0600
TZOFFSETTO:-0500
RDATE:20260308T020000
RDATE:20270314T020000
END:DAYLIGHT
END:VTIMEZONE
BEGIN:VEVENT
UID:d08c0fae-1613-41ae-95a2-47feac053d1a
DTSTAMP:20260422T042933Z
DESCRIPTION:Rooted in Mexican tradition\, Día de los Muertos is a joyful da
 y to remember and honor loved ones who have passed. Far from mourning\, it
  is a celebration of life filled with color\, music\, and community.\n\nPa
 rtnering with After School Matters the Chicago Park District\, and DFSS\, 
 this FREE celebration unites families and neighbors in Pilsen\, highlighti
 ng culture\, remembrance\, and togetherness.\n\nEnjoy live performances\, 
 local vendors\, community resources\, and traditional pan de muerto with h
 ot cocoa. \n\nThank you to our sponsor\, Sims Metal.\n\nSCHEDULE\n1:00 - 3
 :00 pm: Arts & Crafts\, Face Painting\, Resources\, Dance Party\, Photoboo
 th\n3:00 - 4:00 pm: Music & Dance Performances\n4:00 - 4:30 pm: Pan Dulce 
 & Hot Cocoa\n\nContact hello@sga-youth.org with any questions.
DTSTART;TZID=America/Chicago:20251101T130000
DTEND;TZID=America/Chicago:20251101T163000
LOCATION:Dvorak Park\, 1119 W. Cullerton St.\, Chicago\, AL 60608 US
SUMMARY:46th Annual Día de los Muertos Celebration
END:VEVENT
END:VCALENDAR
