BEGIN:VCALENDAR
VERSION:2.0
PRODID:-//sga-youthorg.presencehost.net//NONSGML kigkonsult.se iCalcreator 
 2.30.10//
CALSCALE:GREGORIAN
METHOD:PUBLISH
UID:ca184781-2f09-4387-a15d-349fe253953f
X-WR-CALDESC:Join us for a FREE community event\, 'Tools and Talks for Ment
 al Health' dedicated to supporting first responders with valuable mental h
 ealth tools and resources. Enjoy insightful talks on mental well-being\, c
 onnect with organizations offering support\, and bring the whole family fo
 r fun activities for all ages. Free lunch will be served.\n\nTogether\, we
  can foster resilience and wellbeing for those who serve our communities. 
 If you are a member of law enforcement\, firefighter\, EMS\, or other firs
 t responder\, we welcome you!\n\nWalk-ins welcome\, 11 am - 4 pm. Come for
  a quick visit or stay all day—enjoy FREE mental health talks\, wellness a
 ctivities\, helpful resources\, and delicious food!\n\nIf you are a provid
 er of mental health and wish to exhibit at the event\, kindly complete thi
 s form: https://forms.office.com/r/B6YuwFNpxw
X-WR-RELCALID:39f78554b7951306fc7af026005228c1
X-WR-TIMEZONE:America/Chicago
BEGIN:VTIMEZONE
TZID:America/Chicago
BEGIN:STANDARD
TZNAME:CST
DTSTART:20241103T020000
TZOFFSETFROM:-0500
TZOFFSETTO:-0600
RDATE:20251102T020000
RDATE:20261101T020000
END:STANDARD
BEGIN:DAYLIGHT
TZNAME:CDT
DTSTART:20250309T020000
TZOFFSETFROM:-0600
TZOFFSETTO:-0500
RDATE:20260308T020000
END:DAYLIGHT
END:VTIMEZONE
BEGIN:VEVENT
UID:bcfda3aa-4b04-4a06-9c44-85e7e7fc4199
DTSTAMP:20260422T120917Z
DESCRIPTION:Join us for a FREE community event\, 'Tools and Talks for Menta
 l Health' dedicated to supporting first responders with valuable mental he
 alth tools and resources. Enjoy insightful talks on mental well-being\, co
 nnect with organizations offering support\, and bring the whole family for
  fun activities for all ages. Free lunch will be served.\n\nTogether\, we 
 can foster resilience and wellbeing for those who serve our communities. I
 f you are a member of law enforcement\, firefighter\, EMS\, or other first
  responder\, we welcome you!\n\nWalk-ins welcome\, 11 am - 4 pm. Come for 
 a quick visit or stay all day—enjoy FREE mental health talks\, wellness ac
 tivities\, helpful resources\, and delicious food!\n\nIf you are a provide
 r of mental health and wish to exhibit at the event\, kindly complete this
  form: https://forms.office.com/r/B6YuwFNpxw
DTSTART;TZID=America/Chicago:20250626T110000
DTEND;TZID=America/Chicago:20250626T170000
LOCATION:The Geraghty\, 2520 S Hoyne Ave\, Chicago\, IL 60608 US
SUMMARY:FREE Mind Matters: A First Responders Resource Fair
END:VEVENT
END:VCALENDAR
