BEGIN:VCALENDAR
VERSION:2.0
PRODID:-//sga-youthorg.presencehost.net//NONSGML kigkonsult.se iCalcreator 
 2.30.10//
CALSCALE:GREGORIAN
METHOD:PUBLISH
UID:88e15784-220e-41e3-bae5-48b6355224e7
X-WR-CALDESC:Join SGA and Summit Community Network for a FREE family event 
 for the residents of Summit. \n- Free bike helmets and wellness kits (whil
 e supplies last)\n- Splash day activities for kids\n- Family meditation wo
 rkshop & wellness hike\n- Community resource fair (2-4pm)\n- Music\, food\
 , & more!
X-WR-RELCALID:a54ed043ea94506d7449a1b69ce60e25
X-WR-TIMEZONE:America/Chicago
BEGIN:VTIMEZONE
TZID:America/Chicago
BEGIN:STANDARD
TZNAME:CST
DTSTART:20241103T020000
TZOFFSETFROM:-0500
TZOFFSETTO:-0600
RDATE:20251102T020000
RDATE:20261101T020000
END:STANDARD
BEGIN:DAYLIGHT
TZNAME:CDT
DTSTART:20250309T020000
TZOFFSETFROM:-0600
TZOFFSETTO:-0500
RDATE:20260308T020000
END:DAYLIGHT
END:VTIMEZONE
BEGIN:VEVENT
UID:0592679c-9090-4c74-8117-4d2b85da35b0
DTSTAMP:20260422T120927Z
DESCRIPTION:Join SGA and Summit Community Network for a FREE family event f
 or the residents of Summit. \n- Free bike helmets and wellness kits (while
  supplies last)\n- Splash day activities for kids\n- Family meditation wor
 kshop & wellness hike\n- Community resource fair (2-4pm)\n- Music\, food\,
  & more!
DTSTART;TZID=America/Chicago:20250620T140000
DTEND;TZID=America/Chicago:20250620T170000
LOCATION:5700 S. Archer Rd.\, Summit\, IL 60501 US
SUMMARY:FREE Summit Soars Splash Day & Community Resource Fair
END:VEVENT
END:VCALENDAR
