BEGIN:VCALENDAR
VERSION:2.0
PRODID:-//sga-youthorg.presencehost.net//NONSGML kigkonsult.se iCalcreator 
 2.30.10//
CALSCALE:GREGORIAN
METHOD:PUBLISH
UID:d6c99c0e-bf74-4093-89a7-06f11b496d7c
X-WR-CALDESC:In honor of National Gun Violence Awareness Month\, SGA Youth 
 & Family Services will be distributing free firearm locks at libraries acr
 oss Lake County. \n\nJoin us at the Warren-Newport Public Library\, Zion-B
 enton Public Library\, and Ela Area Public Library on select dates through
 out the month of June to receive fire firearm locks.\n\nSecure firearm sto
 rage can save a life. Take as many locks as you need\, no questions asked 
 or registration required. Please contact ssalcedo@sga-youth.org with any q
 uestions.\n\nJune 3 | 1-7 pm: Warren Newport Public Library\nJune 9 | 1:30
  - 4:30 pm: Zion Benton Public Library\nJune 20 | 12 - 4 pm: Ela Area Publ
 ic Library\n\n
X-WR-RELCALID:3ee8ee8217567e84404aa1841870b00c
X-WR-TIMEZONE:America/Chicago
BEGIN:VTIMEZONE
TZID:America/Chicago
BEGIN:STANDARD
TZNAME:CST
DTSTART:20241103T020000
TZOFFSETFROM:-0500
TZOFFSETTO:-0600
RDATE:20251102T020000
RDATE:20261101T020000
END:STANDARD
BEGIN:DAYLIGHT
TZNAME:CDT
DTSTART:20250309T020000
TZOFFSETFROM:-0600
TZOFFSETTO:-0500
RDATE:20260308T020000
END:DAYLIGHT
END:VTIMEZONE
BEGIN:VEVENT
UID:f4a99a37-a8f0-4f3e-b00b-790325f795b2
DTSTAMP:20260422T120847Z
DESCRIPTION:In honor of National Gun Violence Awareness Month\, SGA Youth &
  Family Services will be distributing free firearm locks at libraries acro
 ss Lake County. \n\nJoin us at the Warren-Newport Public Library\, Zion-Be
 nton Public Library\, and Ela Area Public Library on select dates througho
 ut the month of June to receive fire firearm locks.\n\nSecure firearm stor
 age can save a life. Take as many locks as you need\, no questions asked o
 r registration required. Please contact ssalcedo@sga-youth.org with any qu
 estions.\n\nJune 3 | 1-7 pm: Warren Newport Public Library\nJune 9 | 1:30 
 - 4:30 pm: Zion Benton Public Library\nJune 20 | 12 - 4 pm: Ela Area Publi
 c Library\n\n
DTSTART;TZID=America/Chicago:20250603T130000
DTEND;TZID=America/Chicago:20250603T190000
LOCATION:Warren Newport Public Library\, 224 North O'Plaine Road\, Gurnee\,
  IL 60031 US
SUMMARY:FREE Firearm Lock Distribution Event
END:VEVENT
END:VCALENDAR
