BEGIN:VCALENDAR
VERSION:2.0
PRODID:-//sga-youthorg.presencehost.net//NONSGML kigkonsult.se iCalcreator 
 2.30.10//
CALSCALE:GREGORIAN
METHOD:PUBLISH
UID:46593937-03dc-4363-9cfa-d5701f710449
X-WR-CALDESC:This unforgettable event will feature Erin Gruwell—renowned ed
 ucator\, founder of the Freedom Writers Foundation\, and author of the #1 
 New York Times bestseller The Freedom Writers Diary. Hear Erin’s powerful 
 journey as a high school teacher who transformed the lives of at-risk stud
 ents through hope and guidance.\n\nWe will also honor an outstanding stude
 nt from Higher Sights\, our college readiness and retention program\, with
  the prestigious Joseph Pedott Youth Leadership Award\, as well as a dedic
 ated therapist who works with youth in SGA's programs. \n\nThis fundraiser
  and the paddle raise held during the event benefits the children\, youth\
 , and families that SGA serves\, with programming that focuses on parentin
 g\, early childhood education\, education supports\, and workforce develop
 ment.\n\nThrough its Cycle of Opportunity®\, SGA Youth & Family Services m
 akes real\, sustainable change for the most underserved individuals and co
 mmunities in Chicago\, suburban Cook County\, Lake County\, and Will Count
 y.\n\nJoin us by securing your ticket today: https://sga.tofinoauctions.co
 m/25
X-WR-RELCALID:736642668cd6ad0622f253e53b33572e
X-WR-TIMEZONE:America/Chicago
BEGIN:VTIMEZONE
TZID:America/Chicago
BEGIN:STANDARD
TZNAME:CST
DTSTART:20241103T020000
TZOFFSETFROM:-0500
TZOFFSETTO:-0600
RDATE:20251102T020000
RDATE:20261101T020000
END:STANDARD
BEGIN:DAYLIGHT
TZNAME:CDT
DTSTART:20250309T020000
TZOFFSETFROM:-0600
TZOFFSETTO:-0500
RDATE:20260308T020000
END:DAYLIGHT
END:VTIMEZONE
BEGIN:VEVENT
UID:17693566-e34d-4b47-aeac-6af9957cf71c
DTSTAMP:20260422T132618Z
DESCRIPTION:This unforgettable event will feature Erin Gruwell—renowned edu
 cator\, founder of the Freedom Writers Foundation\, and author of the #1 N
 ew York Times bestseller The Freedom Writers Diary. Hear Erin’s powerful j
 ourney as a high school teacher who transformed the lives of at-risk stude
 nts through hope and guidance.\n\nWe will also honor an outstanding studen
 t from Higher Sights\, our college readiness and retention program\, with 
 the prestigious Joseph Pedott Youth Leadership Award\, as well as a dedica
 ted therapist who works with youth in SGA's programs. \n\nThis fundraiser 
 and the paddle raise held during the event benefits the children\, youth\,
  and families that SGA serves\, with programming that focuses on parenting
 \, early childhood education\, education supports\, and workforce developm
 ent.\n\nThrough its Cycle of Opportunity®\, SGA Youth & Family Services ma
 kes real\, sustainable change for the most underserved individuals and com
 munities in Chicago\, suburban Cook County\, Lake County\, and Will County
 .\n\nJoin us by securing your ticket today: https://sga.tofinoauctions.com
 /25
DTSTART;TZID=America/Chicago:20250513T110000
DTEND;TZID=America/Chicago:20250513T133000
LOCATION:The Woman's Club of Evanston\, 1702 Chicago Ave.\, Evanston\, IL 6
 0201 US
SUMMARY:Annual Benefit Luncheon
END:VEVENT
END:VCALENDAR
