BEGIN:VCALENDAR
VERSION:2.0
PRODID:-//sga-youthorg.presencehost.net//NONSGML kigkonsult.se iCalcreator 
 2.30.10//
CALSCALE:GREGORIAN
METHOD:PUBLISH
UID:0f563710-df5c-4e9d-960c-c3c78f267621
X-WR-CALDESC:Moving Forward in the Midst of Loss\n\nJoin is in imagining ou
 r hopes and dreams for this new year by creating a vision board\n\nThis is
  for anyone who has lost a loved one due to gun violence. It is brought to
  you by the Gun Violence Initiative and its Violence Prevention Coordinati
 ng Council.
X-WR-RELCALID:e608ecd334ba12653db43633e806d21a
X-WR-TIMEZONE:America/Chicago
BEGIN:VTIMEZONE
TZID:America/Chicago
BEGIN:STANDARD
TZNAME:CST
DTSTART:20241103T020000
TZOFFSETFROM:-0500
TZOFFSETTO:-0600
RDATE:20251102T020000
END:STANDARD
BEGIN:DAYLIGHT
TZNAME:CDT
DTSTART:20240310T020000
TZOFFSETFROM:-0600
TZOFFSETTO:-0500
RDATE:20250309T020000
RDATE:20260308T020000
END:DAYLIGHT
END:VTIMEZONE
BEGIN:VEVENT
UID:3f4b229d-727b-4ba8-98f4-75108793e39d
DTSTAMP:20260422T174908Z
DESCRIPTION:Moving Forward in the Midst of Loss\n\nJoin is in imagining our
  hopes and dreams for this new year by creating a vision board\n\nThis is 
 for anyone who has lost a loved one due to gun violence. It is brought to 
 you by the Gun Violence Initiative and its Violence Prevention Coordinatin
 g Council.
DTSTART;TZID=America/Chicago:20250212T180000
DTEND;TZID=America/Chicago:20250212T193000
LOCATION:North Chicago Public Library\, 2100 Argonne Dr.\, North Chicago\, 
 IL 60064 US
SUMMARY:Vision Board Workshop for Anyone Who Has Lost a Loved One Due To Gu
 n Violence
END:VEVENT
END:VCALENDAR
