BEGIN:VCALENDAR
VERSION:2.0
PRODID:-//sga-youthorg.presencehost.net//NONSGML kigkonsult.se iCalcreator 
 2.30.10//
CALSCALE:GREGORIAN
METHOD:PUBLISH
UID:2af5eeaf-533a-422e-8fda-eb154a742735
X-WR-CALDESC:Enjoy games\, arts & crafts\, food\, music\, and more with you
 r whole family!\n\nOpen to families living in Chatham\, New City\, Roselan
 d\, South Chicago\, Washington Heights.\n\nEvery family in attendance will
  be entered into a raffle!\n\nFunded by the Title V Maternal and Child Hea
 lth Services Block Grant
X-WR-RELCALID:17523efff79967dc4d383227d6b06701
X-WR-TIMEZONE:America/Chicago
BEGIN:VTIMEZONE
TZID:America/Chicago
BEGIN:STANDARD
TZNAME:CST
DTSTART:20241103T020000
TZOFFSETFROM:-0500
TZOFFSETTO:-0600
RDATE:20251102T020000
END:STANDARD
BEGIN:DAYLIGHT
TZNAME:CDT
DTSTART:20240310T020000
TZOFFSETFROM:-0600
TZOFFSETTO:-0500
RDATE:20250309T020000
RDATE:20260308T020000
END:DAYLIGHT
END:VTIMEZONE
BEGIN:VEVENT
UID:e7a52303-174b-431b-ae1d-24529ef23c8d
DTSTAMP:20260422T202842Z
DESCRIPTION:Enjoy games\, arts & crafts\, food\, music\, and more with your
  whole family!\n\nOpen to families living in Chatham\, New City\, Roseland
 \, South Chicago\, Washington Heights.\n\nEvery family in attendance will 
 be entered into a raffle!\n\nFunded by the Title V Maternal and Child Heal
 th Services Block Grant
DTSTART;TZID=America/Chicago:20241219T110000
DTEND;TZID=America/Chicago:20241219T140000
LOCATION:Advocate Trinity Hospital - Solarium Room\, 2320 E. 93rd St.\, Chi
 cago\, IL 60617 US
SUMMARY:FREE Winter Party
END:VEVENT
END:VCALENDAR
