BEGIN:VCALENDAR
VERSION:2.0
PRODID:-//sga-youthorg.presencehost.net//NONSGML kigkonsult.se iCalcreator 
 2.30.10//
CALSCALE:GREGORIAN
METHOD:PUBLISH
UID:4ed747e3-65ce-49ec-b767-201e3031c782
X-WR-CALDESC:Caregivers of youth who are either involved in the juvenile ju
 stice system or caregivers of at risk youth - join our virtual event. You 
 will learn about the court system\, juvenile detention center\, and probat
 ion. \n\nOne guardian per family who attends will receive a $75 Jewel-Osco
  gift card\, while supplies last. \n\nRegister today by clicking 'CLICK HE
 RE TO REGISTER' at the top of this page under the event date and time.
X-WR-RELCALID:6dc5e260b8bd301177539b463c2883e9
X-WR-TIMEZONE:America/Chicago
BEGIN:VTIMEZONE
TZID:America/Chicago
BEGIN:STANDARD
TZNAME:CST
DTSTART:20241103T020000
TZOFFSETFROM:-0500
TZOFFSETTO:-0600
RDATE:20251102T020000
END:STANDARD
BEGIN:DAYLIGHT
TZNAME:CDT
DTSTART:20240310T020000
TZOFFSETFROM:-0600
TZOFFSETTO:-0500
RDATE:20250309T020000
RDATE:20260308T020000
END:DAYLIGHT
END:VTIMEZONE
BEGIN:VEVENT
UID:8aab1729-cdab-4135-8bb5-3bb4b3fd062c
DTSTAMP:20260422T203443Z
DESCRIPTION:Caregivers of youth who are either involved in the juvenile jus
 tice system or caregivers of at risk youth - join our virtual event. You w
 ill learn about the court system\, juvenile detention center\, and probati
 on. \n\nOne guardian per family who attends will receive a $75 Jewel-Osco 
 gift card\, while supplies last. \n\nRegister today by clicking 'CLICK HER
 E TO REGISTER' at the top of this page under the event date and time.
DTSTART;TZID=America/Chicago:20241211T173000
DTEND;TZID=America/Chicago:20241211T183000
LOCATION:https://forms.office.com/Pages/ResponsePage.aspx?id=_0n0vIiuoUOlaC
 -BT6ket3LmJF-2pvVGqunRkHGLC3JUMk80TjI2OFlGWTNSMU1CQTRXQ1RBRVdRMS4u&origin=
 QRCode
SUMMARY:FREE Virtual Event for Caregivers - Empowerment & Advocacy
END:VEVENT
END:VCALENDAR
