BEGIN:VCALENDAR
VERSION:2.0
PRODID:-//sga-youthorg.presencehost.net//NONSGML kigkonsult.se iCalcreator 
 2.30.10//
CALSCALE:GREGORIAN
METHOD:PUBLISH
UID:524f582f-20b6-4167-9594-ef2b7c700e47
X-WR-CALDESC:Can you help deliver happiness to the youth and families we se
 rve? We are now accepting donations of gifts for children of all ages for 
 the winter holidays. We are especially in need of gifts for teens.\n\nUnwr
 apped toys may be dropped off Monday - Friday: 9 am - 4 pm through Decembe
 r 19\, 2024 at the following SGA offices:\n- 3501 W. 48th Pl.\, Chicago\, 
 IL 60632\n- 3152 W. 47th St.\, Chicago\, IL 60632\n- 11 E. Adams St.\, Ste
 . 240\, Chicago\, IL 60603\n- 5620 Cermak Rd.\, Cicero\, IL 60804\n- Advoc
 ate Trinity Hospital: 2315 E. 93rd St.\, Unit 336\, Unit 338\, Chicago\, I
 L 60617\n- Executive Tower Professional Building: 325 Washington St.\, Sui
 te 203\, Waukegan\, IL 60085\n\n\nContact us with questions or if you woul
 d like us to pick up your donations.\n\nThank you for your support!
X-WR-RELCALID:97b5e22032a5735c5e8b5ffd170efb52
X-WR-TIMEZONE:America/Chicago
BEGIN:VTIMEZONE
TZID:America/Chicago
BEGIN:STANDARD
TZNAME:CST
DTSTART:20241103T020000
TZOFFSETFROM:-0500
TZOFFSETTO:-0600
RDATE:20251102T020000
END:STANDARD
BEGIN:DAYLIGHT
TZNAME:CDT
DTSTART:20240310T020000
TZOFFSETFROM:-0600
TZOFFSETTO:-0500
RDATE:20250309T020000
RDATE:20260308T020000
END:DAYLIGHT
END:VTIMEZONE
BEGIN:VEVENT
UID:eb50501b-7b08-42b8-bfee-22a4359e847b
DTSTAMP:20260422T203030Z
DESCRIPTION:Can you help deliver happiness to the youth and families we ser
 ve? We are now accepting donations of gifts for children of all ages for t
 he winter holidays. We are especially in need of gifts for teens.\n\nUnwra
 pped toys may be dropped off Monday - Friday: 9 am - 4 pm through December
  19\, 2024 at the following SGA offices:\n- 3501 W. 48th Pl.\, Chicago\, I
 L 60632\n- 3152 W. 47th St.\, Chicago\, IL 60632\n- 11 E. Adams St.\, Ste.
  240\, Chicago\, IL 60603\n- 5620 Cermak Rd.\, Cicero\, IL 60804\n- Advoca
 te Trinity Hospital: 2315 E. 93rd St.\, Unit 336\, Unit 338\, Chicago\, IL
  60617\n- Executive Tower Professional Building: 325 Washington St.\, Suit
 e 203\, Waukegan\, IL 60085\n\n\nContact us with questions or if you would
  like us to pick up your donations.\n\nThank you for your support!
DTSTART;TZID=America/Chicago:20241210T090000
DTEND;TZID=America/Chicago:20241210T160000
LOCATION:Various SGA Office Locations
SUMMARY:Toy Drive
END:VEVENT
END:VCALENDAR
