BEGIN:VCALENDAR
VERSION:2.0
PRODID:-//sga-youthorg.presencehost.net//NONSGML kigkonsult.se iCalcreator 
 2.30.10//
CALSCALE:GREGORIAN
METHOD:PUBLISH
UID:e4f0fcad-1394-4827-a1c1-0684ae94b8b8
X-WR-CALDESC:GET HELP WITH:\n- Soft/Technical Skills Training Career Planni
 ng\n- Academic Support Services\n- Resume Building Interviewing Techniques
 \n\nELIGIBILITY CRITERIA:\n- Must be 16-24 years old.\n- If under 18 must 
 come with parent or legal guardian\n- Reside in one of the following commu
 nities:\nBrighton Park\, New City\, Gage Park\, South Lawndale\, Little Vi
 llage\, Pilsen\, Chicago Lawn\, North Lawndale\, East Garfield\, Fuller Pa
 rk\, West Englewood\, Englewood\, South Shore\, Grand Crossing\, Humboldt 
 Park\, Berwyn\, Roseland\n\nPLEASE BRING:\n- Current IL State ID\n- Origin
 al birth certificate or Social Security Card
X-WR-RELCALID:f1e88da9fe3849677f97e282c325600c
X-WR-TIMEZONE:America/Chicago
BEGIN:VTIMEZONE
TZID:America/Chicago
BEGIN:STANDARD
TZNAME:CST
DTSTART:20241103T020000
TZOFFSETFROM:-0500
TZOFFSETTO:-0600
RDATE:20251102T020000
END:STANDARD
BEGIN:DAYLIGHT
TZNAME:CDT
DTSTART:20240310T020000
TZOFFSETFROM:-0600
TZOFFSETTO:-0500
RDATE:20250309T020000
RDATE:20260308T020000
END:DAYLIGHT
END:VTIMEZONE
BEGIN:VEVENT
UID:50b25d5d-23de-4654-85ee-3e60fa28505b
DTSTAMP:20260422T220449Z
DESCRIPTION:GET HELP WITH:\n- Soft/Technical Skills Training Career Plannin
 g\n- Academic Support Services\n- Resume Building Interviewing Techniques
 \n\nELIGIBILITY CRITERIA:\n- Must be 16-24 years old.\n- If under 18 must 
 come with parent or legal guardian\n- Reside in one of the following commu
 nities:\nBrighton Park\, New City\, Gage Park\, South Lawndale\, Little Vi
 llage\, Pilsen\, Chicago Lawn\, North Lawndale\, East Garfield\, Fuller Pa
 rk\, West Englewood\, Englewood\, South Shore\, Grand Crossing\, Humboldt 
 Park\, Berwyn\, Roseland\n\nPLEASE BRING:\n- Current IL State ID\n- Origin
 al birth certificate or Social Security Card
DTSTART;TZID=America/Chicago:20241127T110000
DTEND;TZID=America/Chicago:20241127T170000
LOCATION:SGA Brighton Park Office\, 3152 W. 47th St\, Chicago\, IL 60632 US
SUMMARY:FREE Workforce Development Internship Program Orientation
END:VEVENT
END:VCALENDAR
