BEGIN:VCALENDAR
VERSION:2.0
PRODID:-//sga-youthorg.presencehost.net//NONSGML kigkonsult.se iCalcreator 
 2.30.10//
CALSCALE:GREGORIAN
METHOD:PUBLISH
UID:e6f7623a-0a46-48bb-8ad4-f99500f01244
X-WR-CALDESC:- Enjoy games\, arts & crafts\, food\, music\, and more with y
 our whole family!\n- Every family in attendance will be entered into a raf
 fle\n- Open to families living in Roseland\, New City\, South Chicago\, Ch
 atham\, or Washington Heights\n- Funded by the Title V Maternal and Child 
 Health Services Block Grant\n- Register by 11/7/2024 at https://forms.offi
 ce.com/r/eG603iTiUd
X-WR-RELCALID:89a49d5f80cc7a8e99463e3471c64941
X-WR-TIMEZONE:America/Chicago
BEGIN:VTIMEZONE
TZID:America/Chicago
BEGIN:STANDARD
TZNAME:CST
DTSTART:20241103T020000
TZOFFSETFROM:-0500
TZOFFSETTO:-0600
RDATE:20251102T020000
END:STANDARD
BEGIN:DAYLIGHT
TZNAME:CDT
DTSTART:20240310T020000
TZOFFSETFROM:-0600
TZOFFSETTO:-0500
RDATE:20250309T020000
RDATE:20260308T020000
END:DAYLIGHT
END:VTIMEZONE
BEGIN:VEVENT
UID:2c39375f-55c0-404b-bb37-bc2b09974e7e
DTSTAMP:20260422T220402Z
DESCRIPTION:- Enjoy games\, arts & crafts\, food\, music\, and more with yo
 ur whole family!\n- Every family in attendance will be entered into a raff
 le\n- Open to families living in Roseland\, New City\, South Chicago\, Cha
 tham\, or Washington Heights\n- Funded by the Title V Maternal and Child H
 ealth Services Block Grant\n- Register by 11/7/2024 at https://forms.offic
 e.com/r/eG603iTiUd
DTSTART;TZID=America/Chicago:20241114T110000
DTEND;TZID=America/Chicago:20241114T140000
LOCATION:Advocate Trinity Hospital\, 2320 E. 93rd St.\, Chicago\, IL 60617 
 US
SUMMARY:FREE Fall into Fun
END:VEVENT
END:VCALENDAR
