BEGIN:VCALENDAR
VERSION:2.0
PRODID:-//sga-youthorg.presencehost.net//NONSGML kigkonsult.se iCalcreator 
 2.30.10//
CALSCALE:GREGORIAN
METHOD:PUBLISH
UID:1df4b064-20f9-4cfa-a1d8-7cf07db934cf
X-WR-CALDESC:Rooted in Mexican tradition\, Dia de los Muertos is a joyous o
 ccasion to celebrate life and honor the memory of loved ones who have pass
 ed away. Join us\, along with our partners - After School Matters and the 
 Chicago Park District for this FREE and longest-running Dia de los Muertos
  celebration in the city of Chicago. Your whole family will enjoy an eveni
 ng of spectacle and ancestral remembrance with FREE face painting\, perfor
 mances\, music\, refreshments\, and the highly anticipated community proce
 ssion. Bring your walking shoes\, your muertos-inspired attire\, and/or yo
 ur own mobile ofrenda. We'll fill the neighborhood with joy and laughter.
X-WR-RELCALID:b9a464d7a282965ee46a5d0bb2122f76
X-WR-TIMEZONE:America/Chicago
BEGIN:VTIMEZONE
TZID:America/Chicago
BEGIN:STANDARD
TZNAME:CST
DTSTART:20231105T020000
TZOFFSETFROM:-0500
TZOFFSETTO:-0600
RDATE:20241103T020000
RDATE:20251102T020000
END:STANDARD
BEGIN:DAYLIGHT
TZNAME:CDT
DTSTART:20240310T020000
TZOFFSETFROM:-0600
TZOFFSETTO:-0500
RDATE:20250309T020000
RDATE:20260308T020000
END:DAYLIGHT
END:VTIMEZONE
BEGIN:VEVENT
UID:e61359ac-2f3e-4a88-ac25-0bed05e5c4b2
DTSTAMP:20260422T221117Z
DESCRIPTION:Rooted in Mexican tradition\, Dia de los Muertos is a joyous oc
 casion to celebrate life and honor the memory of loved ones who have passe
 d away. Join us\, along with our partners - After School Matters and the C
 hicago Park District for this FREE and longest-running Dia de los Muertos 
 celebration in the city of Chicago. Your whole family will enjoy an evenin
 g of spectacle and ancestral remembrance with FREE face painting\, perform
 ances\, music\, refreshments\, and the highly anticipated community proces
 sion. Bring your walking shoes\, your muertos-inspired attire\, and/or you
 r own mobile ofrenda. We'll fill the neighborhood with joy and laughter.
DTSTART;TZID=America/Chicago:20241101T150000
DTEND;TZID=America/Chicago:20241101T190000
LOCATION:Dvorak Park\, 1119 W. Cullerton St.\, Chicago\, IL 60608 US
SUMMARY:FREE 45th Annual Dia de los Muertos Celebration
END:VEVENT
END:VCALENDAR
