BEGIN:VCALENDAR
VERSION:2.0
PRODID:-//sga-youthorg.presencehost.net//NONSGML kigkonsult.se iCalcreator 
 2.30.10//
CALSCALE:GREGORIAN
METHOD:PUBLISH
UID:e1ae6fae-77c7-4f54-a78d-1f2bc8e46d26
X-WR-CALDESC:Parents - learn what to expect in the first year of your child
 's life.\n\nIn this FREE workshop for parents of all genders\, we will dis
 cuss fatherhood involvement\, parenting resources\, milestones development
  and lactation support. Plus\, access food and essential resources. \n\nEl
 igible families must live in Roseland\, Washington Heights\, South Chicago
 \, Chatham\, or New City. \n\nPlease register using the link below.
X-WR-RELCALID:92d5563e63c0ffae4dac6c24ae2bbcf8
X-WR-TIMEZONE:America/Chicago
BEGIN:VTIMEZONE
TZID:America/Chicago
BEGIN:STANDARD
TZNAME:CST
DTSTART:20231105T020000
TZOFFSETFROM:-0500
TZOFFSETTO:-0600
RDATE:20241103T020000
RDATE:20251102T020000
END:STANDARD
BEGIN:DAYLIGHT
TZNAME:CDT
DTSTART:20240310T020000
TZOFFSETFROM:-0600
TZOFFSETTO:-0500
RDATE:20250309T020000
RDATE:20260308T020000
END:DAYLIGHT
END:VTIMEZONE
BEGIN:VEVENT
UID:a437170f-5699-4dfd-a3b4-cfab499e770c
DTSTAMP:20260422T234718Z
DESCRIPTION:Parents - learn what to expect in the first year of your child'
 s life.\n\nIn this FREE workshop for parents of all genders\, we will disc
 uss fatherhood involvement\, parenting resources\, milestones development 
 and lactation support. Plus\, access food and essential resources. \n\nEli
 gible families must live in Roseland\, Washington Heights\, South Chicago\
 , Chatham\, or New City. \n\nPlease register using the link below.
DTSTART;TZID=America/Chicago:20241002T110000
DTEND;TZID=America/Chicago:20241002T140000
LOCATION:Advocate Trinity Hospital \, 5th Floor BI-ROOM\, 2320 E. 93rd St.\
 , Chicago\, IL 60617 US
SUMMARY:FREE Parent Education Workshop
END:VEVENT
END:VCALENDAR
