BEGIN:VCALENDAR
VERSION:2.0
PRODID:-//sga-youthorg.presencehost.net//NONSGML kigkonsult.se iCalcreator 
 2.30.10//
CALSCALE:GREGORIAN
METHOD:PUBLISH
UID:1e5c2bc0-03df-4568-8434-90f576d4906f
X-WR-CALDESC:Join us at Walsh Elementary School on Friday\, July 19th for a
  fun\, FREE\, family event for Summit residents! Summit Community Network 
 is hosting a Community Resource Fair and a Bike Rodeo for kids\, including
  bike checks and repairs\, an obstacle course\, a helmet giveaway\, and mu
 ch more! \n\nSee the flyer linked below for additional details.
X-WR-RELCALID:c1eed2daa564b6c12a0bcd1b0fdec3ef
X-WR-TIMEZONE:America/Chicago
BEGIN:VTIMEZONE
TZID:America/Chicago
BEGIN:STANDARD
TZNAME:CST
DTSTART:20231105T020000
TZOFFSETFROM:-0500
TZOFFSETTO:-0600
RDATE:20241103T020000
RDATE:20251102T020000
END:STANDARD
BEGIN:DAYLIGHT
TZNAME:CDT
DTSTART:20240310T020000
TZOFFSETFROM:-0600
TZOFFSETTO:-0500
RDATE:20250309T020000
END:DAYLIGHT
END:VTIMEZONE
BEGIN:VEVENT
UID:8eb37637-9334-4cd5-ae92-18e41603f362
DTSTAMP:20260423T044741Z
DESCRIPTION:Join us at Walsh Elementary School on Friday\, July 19th for a 
 fun\, FREE\, family event for Summit residents! Summit Community Network i
 s hosting a Community Resource Fair and a Bike Rodeo for kids\, including 
 bike checks and repairs\, an obstacle course\, a helmet giveaway\, and muc
 h more! \n\nSee the flyer linked below for additional details.
DTSTART;TZID=America/Chicago:20240719T120000
DTEND;TZID=America/Chicago:20240719T140000
LOCATION:5640 S. 75th Avenue\, Summit\, IL 60501 US
SUMMARY:Summit Soars!
END:VEVENT
END:VCALENDAR
