BEGIN:VCALENDAR
VERSION:2.0
PRODID:-//sga-youthorg.presencehost.net//NONSGML kigkonsult.se iCalcreator 
 2.30.10//
CALSCALE:GREGORIAN
METHOD:PUBLISH
UID:46c090d6-8313-4813-b958-c3c2e5ad7fb1
X-WR-CALDESC:Join us for a Father's Day Brunch with FREE food\, music\, and
  essential resources! Please RSVP at the link below.\nEligible participant
 s must reside in one of the following communities: Roseland\, Washington H
 eights\, South Chicago\, Chatham\, New City
X-WR-RELCALID:3946e6b4f73f2baa6514d80b7016ec10
X-WR-TIMEZONE:America/Chicago
BEGIN:VTIMEZONE
TZID:America/Chicago
BEGIN:STANDARD
TZNAME:CST
DTSTART:20231105T020000
TZOFFSETFROM:-0500
TZOFFSETTO:-0600
RDATE:20241103T020000
RDATE:20251102T020000
END:STANDARD
BEGIN:DAYLIGHT
TZNAME:CDT
DTSTART:20240310T020000
TZOFFSETFROM:-0600
TZOFFSETTO:-0500
RDATE:20250309T020000
END:DAYLIGHT
END:VTIMEZONE
BEGIN:VEVENT
UID:f3d882b1-c490-41d0-a4d8-cc3ea78e1d7b
DTSTAMP:20260423T063245Z
DESCRIPTION:Join us for a Father's Day Brunch with FREE food\, music\, and 
 essential resources! Please RSVP at the link below.\nEligible participants
  must reside in one of the following communities: Roseland\, Washington He
 ights\, South Chicago\, Chatham\, New City
DTSTART;TZID=America/Chicago:20240626T110000
DTEND;TZID=America/Chicago:20240626T130000
LOCATION:2320 E. 93rd St.\, 5th Floor Tri-Room\, Chicago\, IL 60617 US
SUMMARY:Father's Day Brunch
END:VEVENT
END:VCALENDAR
