BEGIN:VCALENDAR
VERSION:2.0
PRODID:-//sga-youthorg.presencehost.net//NONSGML kigkonsult.se iCalcreator 
 2.30.10//
CALSCALE:GREGORIAN
METHOD:PUBLISH
UID:b1c92b5d-3b26-4553-9e6f-5ed7b7c7b137
X-WR-CALDESC:SGA Youth & Family Services' Virtual Annual Benefit raises fun
 ds for the programming provided by the Cycle of Opportunity®. This proven 
 and innovative service method builds strong foundations for families throu
 gh a continuum of comprehensive services at every stage of life\, from cra
 dle to career. It focuses on four main service areas: Parenting\, Early Ch
 ildhood Education\, Education Support Services\, and Workforce Development
 . SGA supports its program participants socially and emotionally by provid
 ing critical mental health and wraparound services.  \n\nThis year's onlin
 e event shines a spotlight on the struggles that immigrants in Chicago\, I
 llinois\, and America face every day\, as well as what we can do to help t
 he most vulnerable and underserved populations.\n\nOur keynote speaker\, S
 onia Nazario\, is an award-winning journalist whose stories have tackled s
 ome of this country’s most intractable problems including immigration. She
  is best known for the national bestseller and Pulitzer Prize-winning 'Enr
 ique's Journey\,' Sonia’s story of a Honduran boy’s struggle to find his m
 other in the U.S. \n\nIn addition to Sonia’s riveting keynote\, you will a
 lso hear from one of our program participants whose life has changed for t
 he better due to their perseverance and determination and assistance from 
 SGA.\n\nTicket holders will receive a link via email to view the private o
 nline event a few days prior to June 18th.
X-WR-RELCALID:942ab1072599ca4264cb91ade6babf66
X-WR-TIMEZONE:America/Chicago
BEGIN:VTIMEZONE
TZID:America/Chicago
BEGIN:STANDARD
TZNAME:CST
DTSTART:20231105T020000
TZOFFSETFROM:-0500
TZOFFSETTO:-0600
RDATE:20241103T020000
RDATE:20251102T020000
END:STANDARD
BEGIN:DAYLIGHT
TZNAME:CDT
DTSTART:20240310T020000
TZOFFSETFROM:-0600
TZOFFSETTO:-0500
RDATE:20250309T020000
END:DAYLIGHT
END:VTIMEZONE
BEGIN:VEVENT
UID:74c7fcd3-5377-4272-b1e4-13017ac18e91
DTSTAMP:20260423T063244Z
DESCRIPTION:SGA Youth & Family Services' Virtual Annual Benefit raises fund
 s for the programming provided by the Cycle of Opportunity®. This proven a
 nd innovative service method builds strong foundations for families throug
 h a continuum of comprehensive services at every stage of life\, from crad
 le to career. It focuses on four main service areas: Parenting\, Early Chi
 ldhood Education\, Education Support Services\, and Workforce Development.
  SGA supports its program participants socially and emotionally by providi
 ng critical mental health and wraparound services.  \n\nThis year's online
  event shines a spotlight on the struggles that immigrants in Chicago\, Il
 linois\, and America face every day\, as well as what we can do to help th
 e most vulnerable and underserved populations.\n\nOur keynote speaker\, So
 nia Nazario\, is an award-winning journalist whose stories have tackled so
 me of this country’s most intractable problems including immigration. She 
 is best known for the national bestseller and Pulitzer Prize-winning 'Enri
 que's Journey\,' Sonia’s story of a Honduran boy’s struggle to find his mo
 ther in the U.S. \n\nIn addition to Sonia’s riveting keynote\, you will al
 so hear from one of our program participants whose life has changed for th
 e better due to their perseverance and determination and assistance from S
 GA.\n\nTicket holders will receive a link via email to view the private on
 line event a few days prior to June 18th.
DTSTART;TZID=America/Chicago:20240618T153000
DTEND;TZID=America/Chicago:20240618T161500
LOCATION:
SUMMARY:Virtual Annual Benefit 'Building on Promise'
END:VEVENT
END:VCALENDAR
