BEGIN:VCALENDAR
VERSION:2.0
PRODID:-//sga-youthorg.presencehost.net//NONSGML kigkonsult.se iCalcreator 
 2.30.10//
CALSCALE:GREGORIAN
METHOD:PUBLISH
UID:1b0671f1-78f6-451e-8875-c6800e82424b
X-WR-CALDESC:Join SGA's South Region team for an educational and empowering
  event\, 'Women's Winning Experience.' Women and youth aged 13+ are welcom
 e to join us and our speakers\, Diane Saunders\, Rodnisha Anderson\, and P
 atryce Sheppard\, for discussions about self-care\, relationships\, genera
 tional gaps\, and so much more. We will serve light refreshments and have 
 raffles and games. Please register using the provided link below\; we hope
  to see you there!
X-WR-RELCALID:eccc0ebaaef06335e2aa55b07a1bc5a9
X-WR-TIMEZONE:America/Chicago
BEGIN:VTIMEZONE
TZID:America/Chicago
BEGIN:STANDARD
TZNAME:CST
DTSTART:20231105T020000
TZOFFSETFROM:-0500
TZOFFSETTO:-0600
RDATE:20241103T020000
RDATE:20251102T020000
END:STANDARD
BEGIN:DAYLIGHT
TZNAME:CDT
DTSTART:20240310T020000
TZOFFSETFROM:-0600
TZOFFSETTO:-0500
RDATE:20250309T020000
END:DAYLIGHT
END:VTIMEZONE
BEGIN:VEVENT
UID:f3b056f3-0c89-4e0b-b056-52556e86fc45
DTSTAMP:20260423T080612Z
DESCRIPTION:Join SGA's South Region team for an educational and empowering 
 event\, 'Women's Winning Experience.' Women and youth aged 13+ are welcome
  to join us and our speakers\, Diane Saunders\, Rodnisha Anderson\, and Pa
 tryce Sheppard\, for discussions about self-care\, relationships\, generat
 ional gaps\, and so much more. We will serve light refreshments and have r
 affles and games. Please register using the provided link below\; we hope 
 to see you there!
DTSTART;TZID=America/Chicago:20240507T110000
DTEND;TZID=America/Chicago:20240507T150000
LOCATION:Dr. Martin Luther King Service Center\, 4314 S. Cottage Grove Ave.
 \, Chicago\, IL 60653 US
SUMMARY:Women's Winning Experience
END:VEVENT
END:VCALENDAR
