BEGIN:VCALENDAR
VERSION:2.0
PRODID:-//sga-youthorg.presencehost.net//NONSGML kigkonsult.se iCalcreator 
 2.30.10//
CALSCALE:GREGORIAN
METHOD:PUBLISH
UID:afd41dbf-1358-4dce-ac3d-3fb17f101cd7
X-WR-CALDESC:Join SGA staff for this art therapy event and let art be your 
 outlet. We're excited to show the children different ways to express their
  emotions. An Art Therapist will be on-site for this event to teach childr
 en how to express their feelings with art. Free snacks and materials will 
 be provided. We are excited to see the children explore their creative sid
 es\, discover new talents\, and see the different kinds of paintings they 
 create!\n\nPlease RSVP using the QR code in the event flyer or using the l
 ink below.
X-WR-RELCALID:e66908cf5369cd53c3b91728f8469bf9
X-WR-TIMEZONE:America/Chicago
BEGIN:VTIMEZONE
TZID:America/Chicago
BEGIN:STANDARD
TZNAME:CST
DTSTART:20231105T020000
TZOFFSETFROM:-0500
TZOFFSETTO:-0600
RDATE:20241103T020000
END:STANDARD
BEGIN:DAYLIGHT
TZNAME:CDT
DTSTART:20240310T020000
TZOFFSETFROM:-0600
TZOFFSETTO:-0500
RDATE:20250309T020000
END:DAYLIGHT
END:VTIMEZONE
BEGIN:VEVENT
UID:d740d5a6-c63d-4394-8acf-883ffaac7674
DTSTAMP:20260423T093538Z
DESCRIPTION:Join SGA staff for this art therapy event and let art be your o
 utlet. We're excited to show the children different ways to express their 
 emotions. An Art Therapist will be on-site for this event to teach childre
 n how to express their feelings with art. Free snacks and materials will b
 e provided. We are excited to see the children explore their creative side
 s\, discover new talents\, and see the different kinds of paintings they c
 reate!\n\nPlease RSVP using the QR code in the event flyer or using the li
 nk below.
DTSTART;TZID=America/Chicago:20240423T170000
DTEND;TZID=America/Chicago:20240423T190000
LOCATION:14240 Dante Ave.\, Dolton\, IL 60419 US
SUMMARY:Xpress Yourself!
END:VEVENT
END:VCALENDAR
