BEGIN:VCALENDAR
VERSION:2.0
PRODID:-//sga-youthorg.presencehost.net//NONSGML kigkonsult.se iCalcreator 
 2.30.10//
CALSCALE:GREGORIAN
METHOD:PUBLISH
UID:45a9ff25-7446-436d-8b99-09f389545ab1
X-WR-CALDESC:The Juvenile Justice Collaborative Family Support Project & SG
 A Youth & Family Services present Care for Caregivers: Empowerment and Adv
 ocacy.\n\nThis is a free virtual event aimed at providing educational info
 rmation surrounding the juvenile justice system to caregivers of youth who
  are justice-involved\, caregivers of at-risk youth\, and individuals who 
 are 18 years old or older. During the presentation\, caregivers will learn
  the process of the juvenile justice system\, insight into the juvenile de
 tention center and juvenile probation\, be made aware of available scholar
 ships\, and the expungement process\, and be connected to additional recou
 rses to help caregivers address their needs. Those who qualify will be abl
 e to receive a $75 Jewel Osco gift card.  \n\nWe ask that you please regis
 ter if you would like to participate!
X-WR-RELCALID:61c29350607c58da92841e20154e09e0
X-WR-TIMEZONE:America/Chicago
BEGIN:VTIMEZONE
TZID:America/Chicago
BEGIN:STANDARD
TZNAME:CST
DTSTART:20231105T020000
TZOFFSETFROM:-0500
TZOFFSETTO:-0600
RDATE:20241103T020000
END:STANDARD
BEGIN:DAYLIGHT
TZNAME:CDT
DTSTART:20240310T020000
TZOFFSETFROM:-0600
TZOFFSETTO:-0500
RDATE:20250309T020000
END:DAYLIGHT
END:VTIMEZONE
BEGIN:VEVENT
UID:3aaa0831-7abd-4532-85c8-31322e748cf0
DTSTAMP:20260423T094151Z
DESCRIPTION:The Juvenile Justice Collaborative Family Support Project & SGA
  Youth & Family Services present Care for Caregivers: Empowerment and Advo
 cacy.\n\nThis is a free virtual event aimed at providing educational infor
 mation surrounding the juvenile justice system to caregivers of youth who 
 are justice-involved\, caregivers of at-risk youth\, and individuals who a
 re 18 years old or older. During the presentation\, caregivers will learn 
 the process of the juvenile justice system\, insight into the juvenile det
 ention center and juvenile probation\, be made aware of available scholars
 hips\, and the expungement process\, and be connected to additional recour
 ses to help caregivers address their needs. Those who qualify will be able
  to receive a $75 Jewel Osco gift card.  \n\nWe ask that you please regist
 er if you would like to participate!
DTSTART;TZID=America/Chicago:20240411T170000
DTEND;TZID=America/Chicago:20240411T180000
LOCATION:
SUMMARY:Care For Caregivers: Empowerment & Advocacy
END:VEVENT
END:VCALENDAR
