BEGIN:VCALENDAR
VERSION:2.0
PRODID:-//sga-youthorg.presencehost.net//NONSGML kigkonsult.se iCalcreator 
 2.30.10//
CALSCALE:GREGORIAN
METHOD:PUBLISH
UID:29aaa5cc-aa26-4b13-9fcc-da60ee5b663e
X-WR-CALDESC:Join other moms and moms-to-be for a baby shower event with ga
 mes\, raffles\, and fun! This community baby shower is FREE for expectant 
 mothers and moms with 2-month-olds or younger and will focus on themes of 
 nutrition and healthy eating habits. Participants must reside in one of th
 e following communities: Roseland (60609)\, South Chicago (60617)\, Chatha
 m (60619\, 60620)\, or Washington Heights (60643). \nIf you have questions
  or want to register\, contact Program Coordinator Kyla Conner.
X-WR-RELCALID:1ea66cecfdf60c9a5cd9b2d1f6b900ce
X-WR-TIMEZONE:America/Chicago
BEGIN:VTIMEZONE
TZID:America/Chicago
BEGIN:STANDARD
TZNAME:CST
DTSTART:20231105T020000
TZOFFSETFROM:-0500
TZOFFSETTO:-0600
RDATE:20241103T020000
END:STANDARD
BEGIN:DAYLIGHT
TZNAME:CDT
DTSTART:20240310T020000
TZOFFSETFROM:-0600
TZOFFSETTO:-0500
RDATE:20250309T020000
END:DAYLIGHT
END:VTIMEZONE
BEGIN:VEVENT
UID:769448b5-2014-47eb-bf1a-d68c8df688a5
DTSTAMP:20260423T112218Z
DESCRIPTION:Join other moms and moms-to-be for a baby shower event with gam
 es\, raffles\, and fun! This community baby shower is FREE for expectant m
 others and moms with 2-month-olds or younger and will focus on themes of n
 utrition and healthy eating habits. Participants must reside in one of the
  following communities: Roseland (60609)\, South Chicago (60617)\, Chatham
  (60619\, 60620)\, or Washington Heights (60643). \nIf you have questions 
 or want to register\, contact Program Coordinator Kyla Conner.
DTSTART;TZID=America/Chicago:20240315T110000
DTEND;TZID=America/Chicago:20240315T140000
LOCATION:Advocate Trinity Hospital\, 2320 W. 93rd St.\, Chicago\, IL 60617 
 US
SUMMARY:FREE Community Baby Shower
END:VEVENT
END:VCALENDAR
