BEGIN:VCALENDAR
VERSION:2.0
PRODID:-//sga-youthorg.presencehost.net//NONSGML kigkonsult.se iCalcreator 
 2.30.10//
CALSCALE:GREGORIAN
METHOD:PUBLISH
UID:796b2aec-b2c0-4a63-ba7d-3970f056d504
X-WR-CALDESC:In partnership with the Center on Halsted\, SGA is excited to 
 host this FREE virtual educational community event. \nParticipants will le
 arn the foundations of LGBTQ+ terminology\, the importance of pronouns\, a
 nd aspects of allyship. The terminology reviewed covers gender identity\, 
 sex assigned at birth\, orientation\, the LGBTQIA+ acronym\, and gender ex
 pression. Elements of LGBTQ+ experience\, such as coming out\, transition\
 , and visibility\, will also be covered. Participants will learn what pron
 ouns are\, how to ask for someone’s pronouns\, and how to correct someone/
 themselves if they make a mistake. The allyship section covers what allysh
 ip is and actionable steps for being an effective ally at home and in the 
 workplace. \nThe general public (ages 18+) are all welcome.
X-WR-RELCALID:5205885ccbcf974a99260cefd2034fcc
X-WR-TIMEZONE:America/Chicago
BEGIN:VTIMEZONE
TZID:America/Chicago
BEGIN:STANDARD
TZNAME:CST
DTSTART:20231105T020000
TZOFFSETFROM:-0500
TZOFFSETTO:-0600
RDATE:20241103T020000
END:STANDARD
BEGIN:DAYLIGHT
TZNAME:CDT
DTSTART:20230312T020000
TZOFFSETFROM:-0600
TZOFFSETTO:-0500
RDATE:20240310T020000
RDATE:20250309T020000
END:DAYLIGHT
END:VTIMEZONE
BEGIN:VEVENT
UID:bba98bea-a44e-44d9-b4c0-eabb3145f033
DTSTAMP:20260423T111954Z
DESCRIPTION:In partnership with the Center on Halsted\, SGA is excited to h
 ost this FREE virtual educational community event. \nParticipants will lea
 rn the foundations of LGBTQ+ terminology\, the importance of pronouns\, an
 d aspects of allyship. The terminology reviewed covers gender identity\, s
 ex assigned at birth\, orientation\, the LGBTQIA+ acronym\, and gender exp
 ression. Elements of LGBTQ+ experience\, such as coming out\, transition\,
  and visibility\, will also be covered. Participants will learn what prono
 uns are\, how to ask for someone’s pronouns\, and how to correct someone/t
 hemselves if they make a mistake. The allyship section covers what allyshi
 p is and actionable steps for being an effective ally at home and in the w
 orkplace. \nThe general public (ages 18+) are all welcome.
DTSTART;TZID=America/Chicago:20240311T100000
DTEND;TZID=America/Chicago:20240311T113000
LOCATION:Click the green 'Register Now' button to save your spot and receiv
 e virtual event access information
SUMMARY:LGBTQ+ 101 & Allyship
END:VEVENT
END:VCALENDAR
