BEGIN:VCALENDAR
VERSION:2.0
PRODID:-//sga-youthorg.presencehost.net//NONSGML kigkonsult.se iCalcreator 
 2.30.10//
CALSCALE:GREGORIAN
METHOD:PUBLISH
UID:e2d85b5d-1dda-47ff-ac45-bdefb2b01cc3
X-WR-CALDESC:Youth\, parents\, and teachers are welcome to attend our upcom
 ing Community Forum event hosted by SGA's Trauma-Informed Behavioral Healt
 h program. This event will be an open discussion with community members to
  learn more about what they feel their youth would benefit from and what t
 ypes of services and engagement opportunities for youth they would like to
  see more of. Feel free to contact us with any questions!\n\nPlease select
  the green 'Register Now' button above to register so we have an idea of h
 ow many people to expect. This event is FREE to attend- the registration p
 rocess will require you to select a 'ticket\,' but no payment information 
 is required.
X-WR-RELCALID:22e1012929c23ab7cd7eb71a537805fd
X-WR-TIMEZONE:America/Chicago
BEGIN:VTIMEZONE
TZID:America/Chicago
BEGIN:STANDARD
TZNAME:CST
DTSTART:20231105T020000
TZOFFSETFROM:-0500
TZOFFSETTO:-0600
RDATE:20241103T020000
END:STANDARD
BEGIN:DAYLIGHT
TZNAME:CDT
DTSTART:20230312T020000
TZOFFSETFROM:-0600
TZOFFSETTO:-0500
RDATE:20240310T020000
RDATE:20250309T020000
END:DAYLIGHT
END:VTIMEZONE
BEGIN:VEVENT
UID:f57dc7b1-44c0-4253-afef-6d2a2001a018
DTSTAMP:20260423T111820Z
DESCRIPTION:Youth\, parents\, and teachers are welcome to attend our upcomi
 ng Community Forum event hosted by SGA's Trauma-Informed Behavioral Health
  program. This event will be an open discussion with community members to 
 learn more about what they feel their youth would benefit from and what ty
 pes of services and engagement opportunities for youth they would like to 
 see more of. Feel free to contact us with any questions!\n\nPlease select 
 the green 'Register Now' button above to register so we have an idea of ho
 w many people to expect. This event is FREE to attend- the registration pr
 ocess will require you to select a 'ticket\,' but no payment information i
 s required.
DTSTART;TZID=America/Chicago:20240307T170000
DTEND;TZID=America/Chicago:20240307T190000
LOCATION:Riverdale Library\, 208 W. 144th St. \, Riverdale\, IL 60827 US
SUMMARY:Let's Talk About It! Calumet City Cluster Community Forum Event
END:VEVENT
END:VCALENDAR
