BEGIN:VCALENDAR
VERSION:2.0
PRODID:-//sga-youthorg.presencehost.net//NONSGML kigkonsult.se iCalcreator 
 2.30.10//
CALSCALE:GREGORIAN
METHOD:PUBLISH
UID:683c6df7-3b16-432b-aa1f-665de7db1da6
X-WR-CALDESC:February is National Teen Domestic Violence Awareness and Prev
 ention Month\, and we invite teens ages 10 to 19 and their families to att
 end a virtual event to discuss awareness and prevention tactics. This even
 t will be held on Zoom and is FREE to attend. We please ask that you regis
 ter ahead of time using the 'Register Now!' link above. Please reach out w
 ith any questions and we'll see you on 2/15!
X-WR-RELCALID:65ca5816f84e8e4fbb83307aa0a85eb3
X-WR-TIMEZONE:America/Chicago
BEGIN:VTIMEZONE
TZID:America/Chicago
BEGIN:STANDARD
TZNAME:CST
DTSTART:20231105T020000
TZOFFSETFROM:-0500
TZOFFSETTO:-0600
RDATE:20241103T020000
END:STANDARD
BEGIN:DAYLIGHT
TZNAME:CDT
DTSTART:20230312T020000
TZOFFSETFROM:-0600
TZOFFSETTO:-0500
RDATE:20240310T020000
RDATE:20250309T020000
END:DAYLIGHT
END:VTIMEZONE
BEGIN:VEVENT
UID:6c1e7370-404d-4bcc-bf01-675e2c34c71d
DTSTAMP:20260423T125215Z
DESCRIPTION:February is National Teen Domestic Violence Awareness and Preve
 ntion Month\, and we invite teens ages 10 to 19 and their families to atte
 nd a virtual event to discuss awareness and prevention tactics. This event
  will be held on Zoom and is FREE to attend. We please ask that you regist
 er ahead of time using the 'Register Now!' link above. Please reach out wi
 th any questions and we'll see you on 2/15!
DTSTART;TZID=America/Chicago:20240215T170000
DTEND;TZID=America/Chicago:20240215T180000
LOCATION:Click the 'Register Now!' button to the right to receive virtual e
 vent access information. This event is FREE OF CHARGE!
SUMMARY:Love Shouldn't Hurt\, Let's Talk About It
END:VEVENT
END:VCALENDAR
