BEGIN:VCALENDAR
VERSION:2.0
PRODID:-//sga-youthorg.presencehost.net//NONSGML kigkonsult.se iCalcreator 
 2.30.10//
CALSCALE:GREGORIAN
METHOD:PUBLISH
UID:4d7724e9-7f80-42af-a6d3-fd6bc708e872
X-WR-CALDESC:Join our Reimagine Youth Development team at the Sandridge Com
 munity Center for an evening of art therapy. \nThe objective of the 'Paint
  Your Pain' event is to provide a creative and expressive platform for bot
 h youth and parents to use expressionism as a means of catharsis. This art
 -focused event encourages participants to bring their emotions to the fore
 front of their creations\, utilizing a variety of lines\, shapes\, and col
 ors to convey their personal feelings. Through this process\, we aim to fo
 ster a sense of emotional well-being and open dialogue about the importanc
 e of understanding and expressing one's emotions.
X-WR-RELCALID:37666ebca6199fbd131096ea1f79df16
X-WR-TIMEZONE:America/Chicago
BEGIN:VTIMEZONE
TZID:America/Chicago
BEGIN:STANDARD
TZNAME:CST
DTSTART:20231105T020000
TZOFFSETFROM:-0500
TZOFFSETTO:-0600
RDATE:20241103T020000
END:STANDARD
BEGIN:DAYLIGHT
TZNAME:CDT
DTSTART:20230312T020000
TZOFFSETFROM:-0600
TZOFFSETTO:-0500
RDATE:20240310T020000
RDATE:20250309T020000
END:DAYLIGHT
END:VTIMEZONE
BEGIN:VEVENT
UID:d5ddd2a0-851e-4fc3-a380-dcb3f4e8ae65
DTSTAMP:20260423T144730Z
DESCRIPTION:Join our Reimagine Youth Development team at the Sandridge Comm
 unity Center for an evening of art therapy. \nThe objective of the 'Paint 
 Your Pain' event is to provide a creative and expressive platform for both
  youth and parents to use expressionism as a means of catharsis. This art-
 focused event encourages participants to bring their emotions to the foref
 ront of their creations\, utilizing a variety of lines\, shapes\, and colo
 rs to convey their personal feelings. Through this process\, we aim to fos
 ter a sense of emotional well-being and open dialogue about the importance
  of understanding and expressing one's emotions.
DTSTART;TZID=America/Chicago:20240125T160000
DTEND;TZID=America/Chicago:20240125T183000
LOCATION:600 Oglesby Ave.\, Calumet City\, IL 60409 US
SUMMARY:RYD's 'Art Your Outlet'
END:VEVENT
END:VCALENDAR
