BEGIN:VCALENDAR
VERSION:2.0
PRODID:-//sga-youthorg.presencehost.net//NONSGML kigkonsult.se iCalcreator 
 2.30.10//
CALSCALE:GREGORIAN
METHOD:PUBLISH
UID:aeb9f0c3-6e2f-49e4-b746-22a304a65502
X-WR-CALDESC:Join SGA for a Kickback event with Santa Claus on December 16t
 h at the Park 596 Field House! \nThis FREE event will be full of holiday c
 heer\, including raffles\, free gifts\, free resources\, and pictures with
  Santa! \nPlease register at the link below. \nWe look forward to seeing y
 ou!
X-WR-RELCALID:3b6d10dd97c2749d375bcbadaeb6197d
X-WR-TIMEZONE:America/Chicago
BEGIN:VTIMEZONE
TZID:America/Chicago
BEGIN:STANDARD
TZNAME:CST
DTSTART:20231105T020000
TZOFFSETFROM:-0500
TZOFFSETTO:-0600
RDATE:20241103T020000
END:STANDARD
BEGIN:DAYLIGHT
TZNAME:CDT
DTSTART:20230312T020000
TZOFFSETFROM:-0600
TZOFFSETTO:-0500
RDATE:20240310T020000
RDATE:20250309T020000
END:DAYLIGHT
END:VTIMEZONE
BEGIN:VEVENT
UID:424fd636-4d5a-4b02-91ad-2c312d1f21f5
DTSTAMP:20260423T162126Z
DESCRIPTION:Join SGA for a Kickback event with Santa Claus on December 16th
  at the Park 596 Field House! \nThis FREE event will be full of holiday ch
 eer\, including raffles\, free gifts\, free resources\, and pictures with 
 Santa! \nPlease register at the link below. \nWe look forward to seeing yo
 u!
DTSTART;TZID=America/Chicago:20231216T110000
DTEND;TZID=America/Chicago:20231216T150000
LOCATION:Park 596 Field House\, 4830 S. Western Ave. \, Chicago\, IL 60609 
 US
SUMMARY:Santa Claus is Coming to Brighton Park
END:VEVENT
END:VCALENDAR
