BEGIN:VCALENDAR
VERSION:2.0
PRODID:-//sga-youthorg.presencehost.net//NONSGML kigkonsult.se iCalcreator 
 2.30.10//
CALSCALE:GREGORIAN
METHOD:PUBLISH
UID:80973849-0309-4154-9baa-4392b562f7c0
X-WR-CALDESC:There will be a free car seat safety check-up event on Saturda
 y\, November 18th from 10 am to 12 pm. Families can have their car seats c
 hecked by a certified Child Passenger Safety Technician. To register\, ema
 il carseats@luriechildrens.org \nPlease see the flyers for more details.\n
 El Sábado 18 de Noviembre\, de 10am a 12pm\, se realizará una revisión de 
 seguridad gratuita de las sillas de coche. Las familias podrán hacer que u
 n técnico certificado en seguridad de pasajeros infantiles revise sus sill
 as de seguridad. Para inscribirse\, envíe un correo electrónico a carseats
 @luriechildrens.org \nConsulte los folletos para obtener más información.
 \n\n
X-WR-RELCALID:ac39e91f30078b6e4819dea4109fdb97
X-WR-TIMEZONE:America/Chicago
BEGIN:VTIMEZONE
TZID:America/Chicago
BEGIN:STANDARD
TZNAME:CST
DTSTART:20231105T020000
TZOFFSETFROM:-0500
TZOFFSETTO:-0600
RDATE:20241103T020000
END:STANDARD
BEGIN:DAYLIGHT
TZNAME:CDT
DTSTART:20230312T020000
TZOFFSETFROM:-0600
TZOFFSETTO:-0500
RDATE:20240310T020000
RDATE:20250309T020000
END:DAYLIGHT
END:VTIMEZONE
BEGIN:VEVENT
UID:187c30c1-3f69-4e58-9d73-7bf886a58eef
DTSTAMP:20260423T174913Z
DESCRIPTION:There will be a free car seat safety check-up event on Saturday
 \, November 18th from 10 am to 12 pm. Families can have their car seats ch
 ecked by a certified Child Passenger Safety Technician. To register\, emai
 l carseats@luriechildrens.org \nPlease see the flyers for more details.\nE
 l Sábado 18 de Noviembre\, de 10am a 12pm\, se realizará una revisión de s
 eguridad gratuita de las sillas de coche. Las familias podrán hacer que un
  técnico certificado en seguridad de pasajeros infantiles revise sus silla
 s de seguridad. Para inscribirse\, envíe un correo electrónico a carseats@
 luriechildrens.org \nConsulte los folletos para obtener más información.\n
 \n
DTSTART;TZID=America/Chicago:20231118T100000
DTEND;TZID=America/Chicago:20231118T120000
LOCATION:3502 W. 48th Place\, Chicago\, IL 60632 US
SUMMARY:FREE Car Seat Check-Up Event
END:VEVENT
END:VCALENDAR
