BEGIN:VCALENDAR
VERSION:2.0
PRODID:-//sga-youthorg.presencehost.net//NONSGML kigkonsult.se iCalcreator 
 2.30.10//
CALSCALE:GREGORIAN
METHOD:PUBLISH
UID:41395f5c-b8bc-4daf-a561-dc2a20ca911d
X-WR-CALDESC:SGA will be participating in partnership with EverThrive Illin
 ois. Expectant mothers are welcome!
X-WR-RELCALID:ca36d19d7e8f222c82db65e8225bbf15
X-WR-TIMEZONE:America/Chicago
BEGIN:VTIMEZONE
TZID:America/Chicago
BEGIN:STANDARD
TZNAME:CST
DTSTART:20231105T020000
TZOFFSETFROM:-0500
TZOFFSETTO:-0600
RDATE:20241103T020000
END:STANDARD
BEGIN:DAYLIGHT
TZNAME:CDT
DTSTART:20230312T020000
TZOFFSETFROM:-0600
TZOFFSETTO:-0500
RDATE:20240310T020000
RDATE:20250309T020000
END:DAYLIGHT
END:VTIMEZONE
BEGIN:VEVENT
UID:c12ddc93-13c6-4c47-b51e-f640f51fec31
DTSTAMP:20260423T174730Z
DESCRIPTION:SGA will be participating in partnership with EverThrive Illino
 is. Expectant mothers are welcome!
DTSTART;TZID=America/Chicago:20231118T120000
DTEND;TZID=America/Chicago:20231118T150000
LOCATION:5139 S. Ashland Ave.\, Chicago\, IL 60609 US
SUMMARY:ACCESS Community Baby Shower
END:VEVENT
END:VCALENDAR
