BEGIN:VCALENDAR
VERSION:2.0
PRODID:-//sga-youthorg.presencehost.net//NONSGML kigkonsult.se iCalcreator 
 2.30.10//
CALSCALE:GREGORIAN
METHOD:PUBLISH
UID:5de1d4a0-05d5-4b83-8fea-ee6a70f188c9
X-WR-CALDESC:SGA will be a vendor at this hiring event hosted by CREDWorks 
 which is targeted to young adults looking for employment resources.
X-WR-RELCALID:f2182efd28ac5dc412ab4b467ca6b920
X-WR-TIMEZONE:America/Chicago
BEGIN:VTIMEZONE
TZID:America/Chicago
BEGIN:STANDARD
TZNAME:CST
DTSTART:20231105T020000
TZOFFSETFROM:-0500
TZOFFSETTO:-0600
RDATE:20241103T020000
END:STANDARD
BEGIN:DAYLIGHT
TZNAME:CDT
DTSTART:20230312T020000
TZOFFSETFROM:-0600
TZOFFSETTO:-0500
RDATE:20240310T020000
RDATE:20250309T020000
END:DAYLIGHT
END:VTIMEZONE
BEGIN:VEVENT
UID:8cba33cf-5c4c-437f-970e-91e9801f33f4
DTSTAMP:20260423T174730Z
DESCRIPTION:SGA will be a vendor at this hiring event hosted by CREDWorks w
 hich is targeted to young adults looking for employment resources.
DTSTART;TZID=America/Chicago:20231107T110000
DTEND;TZID=America/Chicago:20231107T140000
LOCATION:1415 W. 37th Street\, Suite 101\, Chicago\, IL 60609 US
SUMMARY:CRED Hiring Fair
END:VEVENT
END:VCALENDAR
