BEGIN:VCALENDAR
VERSION:2.0
PRODID:-//sga-youthorg.presencehost.net//NONSGML kigkonsult.se iCalcreator 
 2.30.10//
CALSCALE:GREGORIAN
METHOD:PUBLISH
UID:bd48614a-1528-4cb6-aeba-e3fcf2454c23
X-WR-CALDESC:Join us at Senka Park on Saturday\, November 4th  for fun fall
  activities\, music\, tacos\, and more!
X-WR-RELCALID:a6959c883131650bc09154c451b98ea2
X-WR-TIMEZONE:America/Chicago
BEGIN:VTIMEZONE
TZID:America/Chicago
BEGIN:STANDARD
TZNAME:CST
DTSTART:20221106T020000
TZOFFSETFROM:-0500
TZOFFSETTO:-0600
RDATE:20231105T020000
RDATE:20241103T020000
END:STANDARD
BEGIN:DAYLIGHT
TZNAME:CDT
DTSTART:20230312T020000
TZOFFSETFROM:-0600
TZOFFSETTO:-0500
RDATE:20240310T020000
RDATE:20250309T020000
END:DAYLIGHT
END:VTIMEZONE
BEGIN:VEVENT
UID:19676693-9e30-4fce-a806-abf7b8fdaaf8
DTSTAMP:20260423T174853Z
DESCRIPTION:Join us at Senka Park on Saturday\, November 4th  for fun fall 
 activities\, music\, tacos\, and more!
DTSTART;TZID=America/Chicago:20231104T140000
DTEND;TZID=America/Chicago:20231104T180000
LOCATION:5656 S. St. Louis Ave.\, Chicago\, IL 60629 US
SUMMARY:Gage Park Harvest Fest
END:VEVENT
END:VCALENDAR
