BEGIN:VCALENDAR
VERSION:2.0
PRODID:-//sga-youthorg.presencehost.net//NONSGML kigkonsult.se iCalcreator 
 2.30.10//
CALSCALE:GREGORIAN
METHOD:PUBLISH
UID:8d1008c3-c8f6-47aa-a73c-9648d2d4c674
X-WR-CALDESC:Join us to mark 44 years of the Muertos de las Risa celebratio
 n as a true representation of Chicago’s Pilsen neighborhood community.  \n
 \nWe invite you to a day of music\, celebration\, and recognition as SGA h
 osts over four decades of ancestral remembrance. We will have face paintin
 g\, performances\, and a community procession to conclude the Muertos de l
 a Risa’s 44th Anniversary. This event is FREE and open to all ages!
X-WR-RELCALID:ddb0227c2d24ff51ebae546e917707bf
X-WR-TIMEZONE:America/Chicago
BEGIN:VTIMEZONE
TZID:America/Chicago
BEGIN:STANDARD
TZNAME:CST
DTSTART:20221106T020000
TZOFFSETFROM:-0500
TZOFFSETTO:-0600
RDATE:20231105T020000
RDATE:20241103T020000
END:STANDARD
BEGIN:DAYLIGHT
TZNAME:CDT
DTSTART:20230312T020000
TZOFFSETFROM:-0600
TZOFFSETTO:-0500
RDATE:20240310T020000
RDATE:20250309T020000
END:DAYLIGHT
END:VTIMEZONE
BEGIN:VEVENT
UID:daa2f8f6-6f77-4d5c-b953-ccf5c6e7c463
DTSTAMP:20260423T174610Z
DESCRIPTION:Join us to mark 44 years of the Muertos de las Risa celebration
  as a true representation of Chicago’s Pilsen neighborhood community.  \n
 \nWe invite you to a day of music\, celebration\, and recognition as SGA h
 osts over four decades of ancestral remembrance. We will have face paintin
 g\, performances\, and a community procession to conclude the Muertos de l
 a Risa’s 44th Anniversary. This event is FREE and open to all ages!
DTSTART;TZID=America/Chicago:20231102T150000
DTEND;TZID=America/Chicago:20231102T190000
LOCATION:1119 W. Cullerton\, Chicago\, IL 60608 US
SUMMARY:44th Annual Muertos de la Risa
END:VEVENT
END:VCALENDAR
