BEGIN:VCALENDAR
VERSION:2.0
PRODID:-//sga-youthorg.presencehost.net//NONSGML kigkonsult.se iCalcreator 
 2.30.10//
CALSCALE:GREGORIAN
METHOD:PUBLISH
UID:a2cae980-bbbc-42cc-bdf8-b43585b372da
X-WR-CALDESC:Our Safe Spaces Program is hosting a Trunk or Treat event on S
 aturday\, 10/28. Join us and get in the Halloween spirit with costumes\, a
  pumpkin giveaway\, raffles\, free resources\, and more!
X-WR-RELCALID:3ddcfe0a748a7fb2743915f70b58743b
X-WR-TIMEZONE:America/Chicago
BEGIN:VTIMEZONE
TZID:America/Chicago
BEGIN:STANDARD
TZNAME:CST
DTSTART:20221106T020000
TZOFFSETFROM:-0500
TZOFFSETTO:-0600
RDATE:20231105T020000
RDATE:20241103T020000
END:STANDARD
BEGIN:DAYLIGHT
TZNAME:CDT
DTSTART:20230312T020000
TZOFFSETFROM:-0600
TZOFFSETTO:-0500
RDATE:20240310T020000
RDATE:20250309T020000
END:DAYLIGHT
END:VTIMEZONE
BEGIN:VEVENT
UID:c8ae307b-2a1b-48e2-9200-8b26f4fa56b5
DTSTAMP:20260423T193238Z
DESCRIPTION:Our Safe Spaces Program is hosting a Trunk or Treat event on Sa
 turday\, 10/28. Join us and get in the Halloween spirit with costumes\, a 
 pumpkin giveaway\, raffles\, free resources\, and more!
DTSTART;TZID=America/Chicago:20231028T110000
DTEND;TZID=America/Chicago:20231028T150000
LOCATION:4136 S. California Ave.\, Chicago\, IL 60632 US
SUMMARY:Trunk or Treat
END:VEVENT
END:VCALENDAR
