BEGIN:VCALENDAR
VERSION:2.0
PRODID:-//sga-youthorg.presencehost.net//NONSGML kigkonsult.se iCalcreator 
 2.30.10//
CALSCALE:GREGORIAN
METHOD:PUBLISH
UID:43f2acbd-338d-4b51-8958-bd09cea5410f
X-WR-CALDESC:Are you part of the Roseland\, Pullman\, or West Pullman commu
 nities? Are you 21 or older? Can you pass a background check? If you answe
 red 'yes' and you are passionate about your community\, join us on Thursda
 y\, October 26th for our hiring event at 10450 S. Vincennes. SGA staff wil
 l conduct on-the-spot interviews for several open positions. To learn more
  about working with SGA\, visit our Careers page at the link below.
X-WR-RELCALID:0dfa77f9cb4fbc2527d291fb977f0e31
X-WR-TIMEZONE:America/Chicago
BEGIN:VTIMEZONE
TZID:America/Chicago
BEGIN:STANDARD
TZNAME:CST
DTSTART:20221106T020000
TZOFFSETFROM:-0500
TZOFFSETTO:-0600
RDATE:20231105T020000
RDATE:20241103T020000
END:STANDARD
BEGIN:DAYLIGHT
TZNAME:CDT
DTSTART:20230312T020000
TZOFFSETFROM:-0600
TZOFFSETTO:-0500
RDATE:20240310T020000
RDATE:20250309T020000
END:DAYLIGHT
END:VTIMEZONE
BEGIN:VEVENT
UID:c0cf9f2b-3306-45f3-be45-99fdea39ed89
DTSTAMP:20260423T193409Z
DESCRIPTION:Are you part of the Roseland\, Pullman\, or West Pullman commun
 ities? Are you 21 or older? Can you pass a background check? If you answer
 ed 'yes' and you are passionate about your community\, join us on Thursday
 \, October 26th for our hiring event at 10450 S. Vincennes. SGA staff will
  conduct on-the-spot interviews for several open positions. To learn more 
 about working with SGA\, visit our Careers page at the link below.
DTSTART;TZID=America/Chicago:20231026T090000
DTEND;TZID=America/Chicago:20231026T113000
LOCATION:10450 S. Vincennes\, Chicago\, IL 60643 US
SUMMARY:South Region Community Hiring Event
END:VEVENT
END:VCALENDAR
