BEGIN:VCALENDAR
VERSION:2.0
PRODID:-//sga-youthorg.presencehost.net//NONSGML kigkonsult.se iCalcreator 
 2.30.10//
CALSCALE:GREGORIAN
METHOD:PUBLISH
UID:f25122ae-18c1-4526-813b-6fcc83976a48
X-WR-CALDESC:If you're passionate about helping your community\, especially
  kids\, then Safe Passage is an excellent opportunity to make a difference
  in your neighborhood. Join SGA staff for on-the-spot interviews for immed
 iate hire in collaboration with our CPS Partner Schools as part of the Saf
 e Passage Program.\nSee the link below for more details\, or feel free to 
 contact us.
X-WR-RELCALID:80bb69f87d2ac1796a0c732883484e4a
X-WR-TIMEZONE:America/Chicago
BEGIN:VTIMEZONE
TZID:America/Chicago
BEGIN:STANDARD
TZNAME:CST
DTSTART:20221106T020000
TZOFFSETFROM:-0500
TZOFFSETTO:-0600
RDATE:20231105T020000
RDATE:20241103T020000
END:STANDARD
BEGIN:DAYLIGHT
TZNAME:CDT
DTSTART:20230312T020000
TZOFFSETFROM:-0600
TZOFFSETTO:-0500
RDATE:20240310T020000
RDATE:20250309T020000
END:DAYLIGHT
END:VTIMEZONE
BEGIN:VEVENT
UID:4a125458-a90e-4b57-b484-7ec6235d78ee
DTSTAMP:20260423T193707Z
DESCRIPTION:If you're passionate about helping your community\, especially 
 kids\, then Safe Passage is an excellent opportunity to make a difference 
 in your neighborhood. Join SGA staff for on-the-spot interviews for immedi
 ate hire in collaboration with our CPS Partner Schools as part of the Safe
  Passage Program.\nSee the link below for more details\, or feel free to c
 ontact us.
DTSTART;TZID=America/Chicago:20231009T130000
DTEND;TZID=America/Chicago:20231009T153000
LOCATION:10450 S. Vincennes\, Chicago\, IL 60643 US
SUMMARY:SGA's Safe Passage Hiring Event
END:VEVENT
END:VCALENDAR
