BEGIN:VCALENDAR
VERSION:2.0
PRODID:-//sga-youthorg.presencehost.net//NONSGML kigkonsult.se iCalcreator 
 2.30.10//
CALSCALE:GREGORIAN
METHOD:PUBLISH
UID:ce10d7d3-cbd0-4631-95a5-a74d0e453cc2
X-WR-CALDESC:Join SGA's Higher Sights program and the Chicago Urban League 
 for an end-of-summer celebration! It wouldn't be complete without ice crea
 m\, so stop by for a cool sweet treat. This event is open to all\, whether
  you're already a program participant or someone who wants to learn more a
 bout how SGA can help you achieve your academic goals.  \nMore information
  can be found at the link below. We're looking forward to seeing everyone 
 there!
X-WR-RELCALID:5ce0efd76810180aca8b3a96273802ea
X-WR-TIMEZONE:America/Chicago
BEGIN:VTIMEZONE
TZID:America/Chicago
BEGIN:STANDARD
TZNAME:CST
DTSTART:20221106T020000
TZOFFSETFROM:-0500
TZOFFSETTO:-0600
RDATE:20231105T020000
RDATE:20241103T020000
END:STANDARD
BEGIN:DAYLIGHT
TZNAME:CDT
DTSTART:20230312T020000
TZOFFSETFROM:-0600
TZOFFSETTO:-0500
RDATE:20240310T020000
END:DAYLIGHT
END:VTIMEZONE
BEGIN:VEVENT
UID:5d841d59-e98b-4640-871f-5b11ab993660
DTSTAMP:20260423T225817Z
DESCRIPTION:Join SGA's Higher Sights program and the Chicago Urban League f
 or an end-of-summer celebration! It wouldn't be complete without ice cream
 \, so stop by for a cool sweet treat. This event is open to all\, whether 
 you're already a program participant or someone who wants to learn more ab
 out how SGA can help you achieve your academic goals.  \nMore information 
 can be found at the link below. We're looking forward to seeing everyone t
 here!
DTSTART;TZID=America/Chicago:20230831T130000
DTEND;TZID=America/Chicago:20230831T160000
LOCATION:3501 W. 48th Place\, Chicago\, IL 60632 US
SUMMARY:Higher Sights: Ice Cream Social
END:VEVENT
END:VCALENDAR
