BEGIN:VCALENDAR
VERSION:2.0
PRODID:-//sga-youthorg.presencehost.net//NONSGML kigkonsult.se iCalcreator 
 2.30.10//
CALSCALE:GREGORIAN
METHOD:PUBLISH
UID:bbd1bd8f-08b3-4d85-89ec-a42f8958f515
X-WR-CALDESC:Join us in Chatham for our Male Summit Resource Fair. We will 
 offer free information on various subjects\, including fatherhood and pare
 nting\, gun violence\, mental health\, and employment opportunities. There
  will also be food\, raffles\, and fun!\nStop by and visit SGA staff at th
 e Shine Bright Community Center on Thursday\, August 24th\, from 10 am to 
 3 pm. \nMore information about our programs can be found at the links belo
 w depending on your interests and areas of need. \nClick the interest form
  link below to sign up and feel free to contact us with any questions.
X-WR-RELCALID:f13ab07c2dfd3fa7374029d8cff685ef
X-WR-TIMEZONE:America/Chicago
BEGIN:VTIMEZONE
TZID:America/Chicago
BEGIN:STANDARD
TZNAME:CST
DTSTART:20221106T020000
TZOFFSETFROM:-0500
TZOFFSETTO:-0600
RDATE:20231105T020000
RDATE:20241103T020000
END:STANDARD
BEGIN:DAYLIGHT
TZNAME:CDT
DTSTART:20230312T020000
TZOFFSETFROM:-0600
TZOFFSETTO:-0500
RDATE:20240310T020000
END:DAYLIGHT
END:VTIMEZONE
BEGIN:VEVENT
UID:9cf8533d-e5fc-41aa-bd9e-f16812b40108
DTSTAMP:20260423T225655Z
DESCRIPTION:Join us in Chatham for our Male Summit Resource Fair. We will o
 ffer free information on various subjects\, including fatherhood and paren
 ting\, gun violence\, mental health\, and employment opportunities. There 
 will also be food\, raffles\, and fun!\nStop by and visit SGA staff at the
  Shine Bright Community Center on Thursday\, August 24th\, from 10 am to 3
  pm. \nMore information about our programs can be found at the links below
  depending on your interests and areas of need. \nClick the interest form 
 link below to sign up and feel free to contact us with any questions.
DTSTART;TZID=America/Chicago:20230824T100000
DTEND;TZID=America/Chicago:20230824T150000
LOCATION:8560 S. Cottage Grove\, Chicago\, IL 60619 US
SUMMARY:SGA's Male Summit
END:VEVENT
END:VCALENDAR
