BEGIN:VCALENDAR
VERSION:2.0
PRODID:-//sga-youthorg.presencehost.net//NONSGML kigkonsult.se iCalcreator 
 2.30.10//
CALSCALE:GREGORIAN
METHOD:PUBLISH
UID:5e82f29d-1d96-4920-bd2c-86f742c9163c
X-WR-CALDESC:Join SGA's Higher Sights College Readiness and Retention Progr
 am and The Chicago Urban League for a week of workshops offering valuable 
 tools for future success in the workforce and beyond. \n\nBe sure to regis
 ter at the link below to save your spot!\n\nWorkshop topics are scheduled 
 as follows:\nMonday\, 7/24 - Career Mapping: Begin With The End in Mind\nT
 uesday\, 7/25 - Job Searching\, Applications\, Resume Building\, Professio
 nal References\nWednesday\, 7/26 - Mastering the Art of Selling Yourself: 
 Interviewing Techniques and Strategies\nThursday\, 7/27 - Network & NetWOR
 TH: Financial Literacy 101\nFriday\, 7/28 - 'Land of Possibilities' Expo a
 t the Urban Youth Career Academy (4510 S. Michigan Ave.\, 1:00 pm to 4:00 
 pm)
X-WR-RELCALID:19076c6b216dfda0f7cfc55165b1da7d
X-WR-TIMEZONE:America/Chicago
BEGIN:VTIMEZONE
TZID:America/Chicago
BEGIN:STANDARD
TZNAME:CST
DTSTART:20221106T020000
TZOFFSETFROM:-0500
TZOFFSETTO:-0600
RDATE:20231105T020000
RDATE:20241103T020000
END:STANDARD
BEGIN:DAYLIGHT
TZNAME:CDT
DTSTART:20230312T020000
TZOFFSETFROM:-0600
TZOFFSETTO:-0500
RDATE:20240310T020000
END:DAYLIGHT
END:VTIMEZONE
BEGIN:VEVENT
UID:0c8e3555-c1aa-47c6-8f0b-8aad543533a6
DTSTAMP:20260424T001517Z
DESCRIPTION:Join SGA's Higher Sights College Readiness and Retention Progra
 m and The Chicago Urban League for a week of workshops offering valuable t
 ools for future success in the workforce and beyond. \n\nBe sure to regist
 er at the link below to save your spot!\n\nWorkshop topics are scheduled a
 s follows:\nMonday\, 7/24 - Career Mapping: Begin With The End in Mind\nTu
 esday\, 7/25 - Job Searching\, Applications\, Resume Building\, Profession
 al References\nWednesday\, 7/26 - Mastering the Art of Selling Yourself: I
 nterviewing Techniques and Strategies\nThursday\, 7/27 - Network & NetWORT
 H: Financial Literacy 101\nFriday\, 7/28 - 'Land of Possibilities' Expo at
  the Urban Youth Career Academy (4510 S. Michigan Ave.\, 1:00 pm to 4:00 p
 m)
DTSTART;TZID=America/Chicago:20230724T143000
DTEND;TZID=America/Chicago:20230724T163000
LOCATION:3501 W. 48th Place\, Chicago\, IL 60632 US
SUMMARY:Higher Sights: Life Beyond the Classroom
END:VEVENT
END:VCALENDAR
