BEGIN:VCALENDAR
VERSION:2.0
PRODID:-//sga-youthorg.presencehost.net//NONSGML kigkonsult.se iCalcreator 
 2.30.10//
CALSCALE:GREGORIAN
METHOD:PUBLISH
UID:c3fc772e-3b29-4a00-8bd3-81849af138c0
X-WR-CALDESC:Summer Bridge promotes student engagement in our college acces
 s and success program by providing additional support and resources throug
 hout the summer as students transition into the next phase of their academ
 ic careers. \nBe sure to RSVP for one of two Information Sessions to learn
  more about Summer Bridge. \n\nhttps://forms.office.com/pages/responsepage
 .aspx?id=_0n0vIiuoUOlaC-BT6ket8nc6l5SlKVFks0TRcbmYI9UM0NOTkk3S1hJSUxOMVpXU
 ElUVFgzNzlBTC4u&web=1&wdLOR=c0CCCCFA3-6055-4089-98FE-97283E9D501F
X-WR-RELCALID:50d1d76fa4fe155539d607971dac1ccd
X-WR-TIMEZONE:America/Chicago
BEGIN:VTIMEZONE
TZID:America/Chicago
BEGIN:STANDARD
TZNAME:CST
DTSTART:20221106T020000
TZOFFSETFROM:-0500
TZOFFSETTO:-0600
RDATE:20231105T020000
RDATE:20241103T020000
END:STANDARD
BEGIN:DAYLIGHT
TZNAME:CDT
DTSTART:20230312T020000
TZOFFSETFROM:-0600
TZOFFSETTO:-0500
RDATE:20240310T020000
END:DAYLIGHT
END:VTIMEZONE
BEGIN:VEVENT
UID:f80c3d50-1a56-4ce3-bdc7-a72ceba6f95d
DTSTAMP:20260424T021150Z
DESCRIPTION:Summer Bridge promotes student engagement in our college access
  and success program by providing additional support and resources through
 out the summer as students transition into the next phase of their academi
 c careers. \nBe sure to RSVP for one of two Information Sessions to learn 
 more about Summer Bridge. \n\nhttps://forms.office.com/pages/responsepage.
 aspx?id=_0n0vIiuoUOlaC-BT6ket8nc6l5SlKVFks0TRcbmYI9UM0NOTkk3S1hJSUxOMVpXUE
 lUVFgzNzlBTC4u&web=1&wdLOR=c0CCCCFA3-6055-4089-98FE-97283E9D501F
DTSTART;TZID=America/Chicago:20230622T110000
DTEND;TZID=America/Chicago:20230622T120000
LOCATION:https://sga-youth.org/what-we-do/programs-services/college-retenti
 on-readiness-program.html
SUMMARY:Summer Bridge Informational Session 1
END:VEVENT
END:VCALENDAR
