BEGIN:VCALENDAR
VERSION:2.0
PRODID:-//sga-youthorg.presencehost.net//NONSGML kigkonsult.se iCalcreator 
 2.30.10//
CALSCALE:GREGORIAN
METHOD:PUBLISH
UID:6073eb0f-699e-406b-ad2f-b9d5ecd7802a
X-WR-CALDESC:SGA Youth & Family Services’ Annual Virtual Benefit\, 'Buildin
 g on Promise” raises funds for the life-changing programs in our Cycle of 
 Opportunity©.  \n\nWe are thrilled to host esteemed author\, journalist\, 
 and filmmaker\, Alex Kotlowitz\, as our keynote speaker. Back by popular d
 emand\, he will discuss the problems and solutions surrounding violence in
  our Chicago neighborhoods. Professor Kotlowitz is the author of four book
 s\, including his most recent\, An American Summer: Love and Death in Chic
 ago which received the J. Anthony Lukas Book Prize. \n\nPlease join us onl
 ine for an informative and inspiring event to learn about our work in Chic
 agoland. \n\nThe suggested donation is $500/person\, however\, a donation 
 of any amount will allow you to view the online event.\n\nOnline event acc
 ess information will be provided via email upon registration.
X-WR-RELCALID:78bee673f638abe6fa7cf347e6f6ec9a
X-WR-TIMEZONE:America/Chicago
BEGIN:VTIMEZONE
TZID:America/Chicago
BEGIN:STANDARD
TZNAME:CST
DTSTART:20221106T020000
TZOFFSETFROM:-0500
TZOFFSETTO:-0600
RDATE:20231105T020000
RDATE:20241103T020000
END:STANDARD
BEGIN:DAYLIGHT
TZNAME:CDT
DTSTART:20230312T020000
TZOFFSETFROM:-0600
TZOFFSETTO:-0500
RDATE:20240310T020000
END:DAYLIGHT
END:VTIMEZONE
BEGIN:VEVENT
UID:24543745-e99f-4698-9bd5-5bef84e52720
DTSTAMP:20260424T034712Z
DESCRIPTION:SGA Youth & Family Services’ Annual Virtual Benefit\, 'Building
  on Promise” raises funds for the life-changing programs in our Cycle of O
 pportunity©.  \n\nWe are thrilled to host esteemed author\, journalist\, a
 nd filmmaker\, Alex Kotlowitz\, as our keynote speaker. Back by popular de
 mand\, he will discuss the problems and solutions surrounding violence in 
 our Chicago neighborhoods. Professor Kotlowitz is the author of four books
 \, including his most recent\, An American Summer: Love and Death in Chica
 go which received the J. Anthony Lukas Book Prize. \n\nPlease join us onli
 ne for an informative and inspiring event to learn about our work in Chica
 goland. \n\nThe suggested donation is $500/person\, however\, a donation o
 f any amount will allow you to view the online event.\n\nOnline event acce
 ss information will be provided via email upon registration.
DTSTART;TZID=America/Chicago:20230525T180000
DTEND;TZID=America/Chicago:20230525T183000
LOCATION:
SUMMARY:Virtual Annual Benefit 'Building on Promise'
END:VEVENT
END:VCALENDAR
