BEGIN:VCALENDAR
VERSION:2.0
PRODID:-//sga-youthorg.presencehost.net//NONSGML kigkonsult.se iCalcreator 
 2.30.10//
CALSCALE:GREGORIAN
METHOD:PUBLISH
UID:0c14467b-6022-43fe-8205-dc80e4367964
X-WR-CALDESC:ENGLISH: 10 am - 12 pm \nSPANISH: 1 - 3 pm\n\nExpecting women 
 and mothers: let’s celebrate the new addition to your family! Join us for 
 games\, raffle prizes\, refreshments\, vision board creating and more. Mee
 t other moms-to-be and discover resources to keep your new baby safe\, hap
 py and healthy. Free to attend! RSVP is required.\n\nRSVP at https://forms
 .office.com/r/UFye0eUhk7
X-WR-RELCALID:890e41d3c606d335529c38e8db21c457
X-WR-TIMEZONE:America/Chicago
BEGIN:VTIMEZONE
TZID:America/Chicago
BEGIN:STANDARD
TZNAME:CST
DTSTART:20221106T020000
TZOFFSETFROM:-0500
TZOFFSETTO:-0600
RDATE:20231105T020000
END:STANDARD
BEGIN:DAYLIGHT
TZNAME:CDT
DTSTART:20220313T020000
TZOFFSETFROM:-0600
TZOFFSETTO:-0500
RDATE:20230312T020000
RDATE:20240310T020000
END:DAYLIGHT
END:VTIMEZONE
BEGIN:VEVENT
UID:ee7740c2-e212-4e7e-a990-70d28faf97c5
DTSTAMP:20260424T123619Z
DESCRIPTION:ENGLISH: 10 am - 12 pm \nSPANISH: 1 - 3 pm\n\nExpecting women a
 nd mothers: let’s celebrate the new addition to your family! Join us for g
 ames\, raffle prizes\, refreshments\, vision board creating and more. Meet
  other moms-to-be and discover resources to keep your new baby safe\, happ
 y and healthy. Free to attend! RSVP is required.\n\nRSVP at https://forms.
 office.com/r/UFye0eUhk7
DTSTART;TZID=America/Chicago:20221216T100000
DTEND;TZID=America/Chicago:20221216T150000
LOCATION:Advocate Trinity Hospital in the Tri-Room\, 2315 E. 93rd St #215\,
  Chicago\, IL 60617 US
SUMMARY:FREE Community Baby Shower
END:VEVENT
END:VCALENDAR
