BEGIN:VCALENDAR
VERSION:2.0
PRODID:-//sga-youthorg.presencehost.net//NONSGML kigkonsult.se iCalcreator 
 2.30.10//
CALSCALE:GREGORIAN
METHOD:PUBLISH
UID:e9a1f70f-a94e-4bcf-acd6-642e756d570c
X-WR-CALDESC:ENGLISH: 10 am - 12 pm \nSPANISH: 1 - 3 pm\n\nExpecting women 
 and mothers: let’s celebrate the new addition to your family! Join us for 
 games\, raffle prizes\, refreshments\, SIDS education and more. Meet other
  moms-to-be and discover resources to keep your new baby safe\, happy and 
 healthy. Free to attend! RSVP is required.\n\nRSVP at https://forms.office
 .com/r/UFye0eUhk7
X-WR-RELCALID:1817a05b1d690761f243b2ff2a697241
X-WR-TIMEZONE:America/Chicago
BEGIN:VTIMEZONE
TZID:America/Chicago
BEGIN:STANDARD
TZNAME:CST
DTSTART:20211107T020000
TZOFFSETFROM:-0500
TZOFFSETTO:-0600
RDATE:20221106T020000
RDATE:20231105T020000
END:STANDARD
BEGIN:DAYLIGHT
TZNAME:CDT
DTSTART:20220313T020000
TZOFFSETFROM:-0600
TZOFFSETTO:-0500
RDATE:20230312T020000
RDATE:20240310T020000
END:DAYLIGHT
END:VTIMEZONE
BEGIN:VEVENT
UID:f5cb0da0-5072-4f09-9520-10ab8eee589b
DTSTAMP:20260424T160759Z
DESCRIPTION:ENGLISH: 10 am - 12 pm \nSPANISH: 1 - 3 pm\n\nExpecting women a
 nd mothers: let’s celebrate the new addition to your family! Join us for g
 ames\, raffle prizes\, refreshments\, SIDS education and more. Meet other 
 moms-to-be and discover resources to keep your new baby safe\, happy and h
 ealthy. Free to attend! RSVP is required.\n\nRSVP at https://forms.office.
 com/r/UFye0eUhk7
DTSTART;TZID=America/Chicago:20221021T100000
DTEND;TZID=America/Chicago:20221021T150000
LOCATION:Advocate Trinity Hospital in the Tri-Room\, 2315 E. 93rd St #215\,
  Chicago\, IL 60617 US
SUMMARY:FREE Community Baby Shower
END:VEVENT
END:VCALENDAR
