BEGIN:VCALENDAR
VERSION:2.0
PRODID:-//sga-youthorg.presencehost.net//NONSGML kigkonsult.se iCalcreator 
 2.30.10//
CALSCALE:GREGORIAN
METHOD:PUBLISH
UID:f51555df-dc86-4648-a6cb-70ccfe31932e
X-WR-CALDESC:This FREE event is open to all community members!\n\nThe Commu
 nity Action Network (CAN) is an open platform that empowers individuals an
 d groups to organize for progressive causes. CAN is comprised of concerned
  community members\, community-based organizations\, health & faith instit
 utions\, civic organizations\, government\, and other groups committed to 
 working together to improve the health and wellness of families in our com
 munities. \n\nRegistration is required. Please visit the link below.
X-WR-RELCALID:20d41c434f536cd53b3950e89d774dc1
X-WR-TIMEZONE:America/Chicago
BEGIN:VTIMEZONE
TZID:America/Chicago
BEGIN:STANDARD
TZNAME:CST
DTSTART:20211107T020000
TZOFFSETFROM:-0500
TZOFFSETTO:-0600
RDATE:20221106T020000
RDATE:20231105T020000
END:STANDARD
BEGIN:DAYLIGHT
TZNAME:CDT
DTSTART:20220313T020000
TZOFFSETFROM:-0600
TZOFFSETTO:-0500
RDATE:20230312T020000
END:DAYLIGHT
END:VTIMEZONE
BEGIN:VEVENT
UID:6f2575c5-1764-4c67-9787-112839e63f74
DTSTAMP:20260424T185941Z
DESCRIPTION:This FREE event is open to all community members!\n\nThe Commun
 ity Action Network (CAN) is an open platform that empowers individuals and
  groups to organize for progressive causes. CAN is comprised of concerned 
 community members\, community-based organizations\, health & faith institu
 tions\, civic organizations\, government\, and other groups committed to w
 orking together to improve the health and wellness of families in our comm
 unities. \n\nRegistration is required. Please visit the link below.
DTSTART;TZID=America/Chicago:20220817T100000
DTEND;TZID=America/Chicago:20220817T113000
LOCATION:9525 South Halsted St.\, Chicago\, IL 60628 US
SUMMARY:FREE Community Action Network Meeting
END:VEVENT
END:VCALENDAR
