BEGIN:VCALENDAR
VERSION:2.0
PRODID:-//sga-youthorg.presencehost.net//NONSGML kigkonsult.se iCalcreator 
 2.30.10//
CALSCALE:GREGORIAN
METHOD:PUBLISH
UID:953fad29-05f9-4341-948d-09d09a64a211
X-WR-CALDESC:Bring the whole family for a fun afternoon of FREE activities 
 to celebrate the return to school this year. We'll have raffles\, entertai
 nment\, music\, and we are giving away FREE school supplies while they las
 t!
X-WR-RELCALID:086faa55804e81fe9fcb97cd3c74b4b4
X-WR-TIMEZONE:America/Chicago
BEGIN:VTIMEZONE
TZID:America/Chicago
BEGIN:STANDARD
TZNAME:CST
DTSTART:20211107T020000
TZOFFSETFROM:-0500
TZOFFSETTO:-0600
RDATE:20221106T020000
RDATE:20231105T020000
END:STANDARD
BEGIN:DAYLIGHT
TZNAME:CDT
DTSTART:20220313T020000
TZOFFSETFROM:-0600
TZOFFSETTO:-0500
RDATE:20230312T020000
END:DAYLIGHT
END:VTIMEZONE
BEGIN:VEVENT
UID:4615e0e8-33eb-4552-ab8d-1d21ce082fdc
DTSTAMP:20260424T185909Z
DESCRIPTION:Bring the whole family for a fun afternoon of FREE activities t
 o celebrate the return to school this year. We'll have raffles\, entertain
 ment\, music\, and we are giving away FREE school supplies while they last
 !
DTSTART;TZID=America/Chicago:20220813T100000
DTEND;TZID=America/Chicago:20220813T140000
LOCATION:3152 W. 47th St.\, Chicago\, IL 60632 US
SUMMARY:FREE Back to School Event
END:VEVENT
END:VCALENDAR
