BEGIN:VCALENDAR
VERSION:2.0
PRODID:-//sga-youthorg.presencehost.net//NONSGML kigkonsult.se iCalcreator 
 2.30.10//
CALSCALE:GREGORIAN
METHOD:PUBLISH
UID:c8d46d63-b835-4aa3-99b4-e9e0293b7f3c
X-WR-CALDESC:We Are Hip Hop Festival is curated by Chicago youth\, striving
  for peace\, anti-violence and Hip Hop awareness.\n\nFounded in 2005\, the
  We Are Hip Hop Festival promotes community awareness and togetherness as 
 well as safe space for peace in the Pilsen neighborhood.\n\nOur festival s
 howcases up-and-coming Chicago talent by reflecting all elements of the hi
 p hop culture and promote hip hop awareness.\n\nThis event is the largest 
 youth run hip hop festival in Chicago\, and as the youth learn about the h
 ip hop culture\, festival planning\, marketing and PR\, we also build comm
 unity leaders\, team-building and leadership skills.\n\nWe Are Hip Hop Fes
 tival is presented as part of the Chicago Park District’s Night Out in the
  Parks series\, supported by the Mayor’s Office and Chicago Department of 
 Cultural Affairs and Special Events. Celebrating 10 years\, the 2022 Night
  Out in the Parks program presents cultural events year-round in neighborh
 ood parks throughout the city. The Chicago Park District in partnership wi
 th over 100 local artists and organizations\, present engaging events and 
 performances that enhance quality of life across Chicago and amplify the a
 rtistic and cultural vibrancy in every neighborhood. Through multiple disc
 iplines\, which include theater\, music\, movies\, dance\, site-specific w
 ork\, nature programs\, and community festivals\, the series aims to suppo
 rt Chicago-based artists\, facilitate community-based partnerships and pro
 grams\, cultivate civic engagement\, and ensure equity in access to the ar
 ts for all Chicagoans.
X-WR-RELCALID:0f6bc7e8117572a67cebc49ae467ae0b
X-WR-TIMEZONE:America/Chicago
BEGIN:VTIMEZONE
TZID:America/Chicago
BEGIN:STANDARD
TZNAME:CST
DTSTART:20211107T020000
TZOFFSETFROM:-0500
TZOFFSETTO:-0600
RDATE:20221106T020000
RDATE:20231105T020000
END:STANDARD
BEGIN:DAYLIGHT
TZNAME:CDT
DTSTART:20220313T020000
TZOFFSETFROM:-0600
TZOFFSETTO:-0500
RDATE:20230312T020000
END:DAYLIGHT
END:VTIMEZONE
BEGIN:VEVENT
UID:2ef8485a-6bbe-4ad2-98ae-b27ef2008e28
DTSTAMP:20260424T190034Z
DESCRIPTION:We Are Hip Hop Festival is curated by Chicago youth\, striving 
 for peace\, anti-violence and Hip Hop awareness.\n\nFounded in 2005\, the 
 We Are Hip Hop Festival promotes community awareness and togetherness as w
 ell as safe space for peace in the Pilsen neighborhood.\n\nOur festival sh
 owcases up-and-coming Chicago talent by reflecting all elements of the hip
  hop culture and promote hip hop awareness.\n\nThis event is the largest y
 outh run hip hop festival in Chicago\, and as the youth learn about the hi
 p hop culture\, festival planning\, marketing and PR\, we also build commu
 nity leaders\, team-building and leadership skills.\n\nWe Are Hip Hop Fest
 ival is presented as part of the Chicago Park District’s Night Out in the 
 Parks series\, supported by the Mayor’s Office and Chicago Department of C
 ultural Affairs and Special Events. Celebrating 10 years\, the 2022 Night 
 Out in the Parks program presents cultural events year-round in neighborho
 od parks throughout the city. The Chicago Park District in partnership wit
 h over 100 local artists and organizations\, present engaging events and p
 erformances that enhance quality of life across Chicago and amplify the ar
 tistic and cultural vibrancy in every neighborhood. Through multiple disci
 plines\, which include theater\, music\, movies\, dance\, site-specific wo
 rk\, nature programs\, and community festivals\, the series aims to suppor
 t Chicago-based artists\, facilitate community-based partnerships and prog
 rams\, cultivate civic engagement\, and ensure equity in access to the art
 s for all Chicagoans.
DTSTART;TZID=America/Chicago:20220806T130000
DTEND;TZID=America/Chicago:20220806T180000
LOCATION:Dvorak Park\, 1119 W. Cullerton St.\, Chicago\, IL 60608 US
SUMMARY:FREE We Are Hip Hop Festival
END:VEVENT
END:VCALENDAR
