BEGIN:VCALENDAR
VERSION:2.0
PRODID:-//sga-youthorg.presencehost.net//NONSGML kigkonsult.se iCalcreator 
 2.30.10//
CALSCALE:GREGORIAN
METHOD:PUBLISH
UID:dd2e6f07-072d-41c1-8c3d-363699e721d5
X-WR-CALDESC:Who: Expecting families and families with babies 0-18 months o
 ld.\n\nWhat: Join us for games\, refreshments\, breastfeeding education\, 
 and more. Celebrate National Breastfeeding Month with the Midwest Healthy 
 Start family. Meet other moms and moms-to-be\, and discover resources to k
 eep your family safe\, healthy\, and happy.
X-WR-RELCALID:f2a4e97eeaefdde2825455496420543f
X-WR-TIMEZONE:America/Chicago
BEGIN:VTIMEZONE
TZID:America/Chicago
BEGIN:STANDARD
TZNAME:CST
DTSTART:20211107T020000
TZOFFSETFROM:-0500
TZOFFSETTO:-0600
RDATE:20221106T020000
RDATE:20231105T020000
END:STANDARD
BEGIN:DAYLIGHT
TZNAME:CDT
DTSTART:20220313T020000
TZOFFSETFROM:-0600
TZOFFSETTO:-0500
RDATE:20230312T020000
END:DAYLIGHT
END:VTIMEZONE
BEGIN:VEVENT
UID:63eff7cc-aeff-46cf-b050-0011c0743b68
DTSTAMP:20260424T185942Z
DESCRIPTION:Who: Expecting families and families with babies 0-18 months ol
 d.\n\nWhat: Join us for games\, refreshments\, breastfeeding education\, a
 nd more. Celebrate National Breastfeeding Month with the Midwest Healthy S
 tart family. Meet other moms and moms-to-be\, and discover resources to ke
 ep your family safe\, healthy\, and happy.
DTSTART;TZID=America/Chicago:20220805T110000
DTEND;TZID=America/Chicago:20220805T140000
LOCATION:Advocate Trinity Physical Therapy Building\, 9264 S. Yates Blvd.\,
  Tri-Room\, 5th Floor\, Chicago\, IL 60617 US
SUMMARY:FREE The Big Latch Event
END:VEVENT
END:VCALENDAR
