BEGIN:VCALENDAR
VERSION:2.0
PRODID:-//sga-youthorg.presencehost.net//NONSGML kigkonsult.se iCalcreator 
 2.30.10//
CALSCALE:GREGORIAN
METHOD:PUBLISH
UID:3ae4aa09-71a2-4a40-bdbf-7674375b8b3e
X-WR-CALDESC:Join us for our FREE Father's Day event! We'll have games\, fo
 od\, a door prize and more!\n\nPlease register at https://forms.office.com
 /r/UFye0eUhk7
X-WR-RELCALID:76b4ed2b1ba89f752928bec7e2dddd8b
X-WR-TIMEZONE:America/Chicago
BEGIN:VTIMEZONE
TZID:America/Chicago
BEGIN:STANDARD
TZNAME:CST
DTSTART:20211107T020000
TZOFFSETFROM:-0500
TZOFFSETTO:-0600
RDATE:20221106T020000
RDATE:20231105T020000
END:STANDARD
BEGIN:DAYLIGHT
TZNAME:CDT
DTSTART:20220313T020000
TZOFFSETFROM:-0600
TZOFFSETTO:-0500
RDATE:20230312T020000
END:DAYLIGHT
END:VTIMEZONE
BEGIN:VEVENT
UID:e25cba46-5f4b-49d0-91c2-df9b34daa224
DTSTAMP:20260424T214213Z
DESCRIPTION:Join us for our FREE Father's Day event! We'll have games\, foo
 d\, a door prize and more!\n\nPlease register at https://forms.office.com/
 r/UFye0eUhk7
DTSTART;TZID=America/Chicago:20220617T100000
DTEND;TZID=America/Chicago:20220617T140000
LOCATION:Advocate Trinity Physical Therapy Building - Tri-Room\, 5th Floor\
 , 9264 S. Yates Blvd.\, Chicago\, IL 60617 US
SUMMARY:FREE Father's Day Event: Tie That Binds
END:VEVENT
END:VCALENDAR
