BEGIN:VCALENDAR
VERSION:2.0
PRODID:-//sga-youthorg.presencehost.net//NONSGML kigkonsult.se iCalcreator 
 2.30.10//
CALSCALE:GREGORIAN
METHOD:PUBLISH
UID:de139b2f-09b6-4299-8dc7-4a78e5c5ac21
X-WR-CALDESC:Gather the family together for our FREE Promotores de salud Di
 a del Nino Children's Day Event! We'll have activities such as arts and cr
 afts and a jumpy house\, plus music and snacks. Children can get their hai
 r cut free of charge and you can learn about COVID-19. You must bring at l
 east one child to enter our raffle and participate in giveaways.
X-WR-RELCALID:c706fbd5513454ca622468cbc5f6740b
X-WR-TIMEZONE:America/Chicago
BEGIN:VTIMEZONE
TZID:America/Chicago
BEGIN:STANDARD
TZNAME:CST
DTSTART:20211107T020000
TZOFFSETFROM:-0500
TZOFFSETTO:-0600
RDATE:20221106T020000
RDATE:20231105T020000
END:STANDARD
BEGIN:DAYLIGHT
TZNAME:CDT
DTSTART:20220313T020000
TZOFFSETFROM:-0600
TZOFFSETTO:-0500
RDATE:20230312T020000
END:DAYLIGHT
END:VTIMEZONE
BEGIN:VEVENT
UID:2c08a5a1-f58a-4db5-9839-2957fc5ecc2a
DTSTAMP:20260424T230745Z
DESCRIPTION:Gather the family together for our FREE Promotores de salud Dia
  del Nino Children's Day Event! We'll have activities such as arts and cra
 fts and a jumpy house\, plus music and snacks. Children can get their hair
  cut free of charge and you can learn about COVID-19. You must bring at le
 ast one child to enter our raffle and participate in giveaways.
DTSTART;TZID=America/Chicago:20220514T100000
DTEND;TZID=America/Chicago:20220514T140000
LOCATION:SGA Youth & Family Services - Brighton Park Office\, 3152 W. 47th 
 St.\, Chicago\, IL 60632 US
SUMMARY:Dia del Nino - Children's Day
END:VEVENT
END:VCALENDAR
