BEGIN:VCALENDAR
VERSION:2.0
PRODID:-//sga-youthorg.presencehost.net//NONSGML kigkonsult.se iCalcreator 
 2.30.10//
CALSCALE:GREGORIAN
METHOD:PUBLISH
UID:62d3562b-33bf-48ae-8a5b-613c1aa86b3d
X-WR-CALDESC:SGA Youth & Family Services’ virtual annual benefit “Building 
 on Promise” raises funds for the life-changing programs in our Cycle of Op
 portunity©. SGA helps children\, families and communities facing great cha
 llenges to realize their potential.\n\nOur speaker\, world-renowned psychi
 atrist\, Dr. Bruce Perry\, has been an active teacher\, clinician and rese
 archer in children’s mental health and neurosciences holding a variety of 
 academic positions for the past 30 years. His work on the impact of abuse\
 , neglect and trauma on the developing brain has impacted clinical practic
 e\, programs and policy across the world.\n\nJoin us online for an informa
 tive and inspiring event to learn about our work in Chicagoland.
X-WR-RELCALID:c48feecdfe3ee413585e7c9026d5b898
X-WR-TIMEZONE:America/Chicago
BEGIN:VTIMEZONE
TZID:America/Chicago
BEGIN:STANDARD
TZNAME:CST
DTSTART:20211107T020000
TZOFFSETFROM:-0500
TZOFFSETTO:-0600
RDATE:20221106T020000
RDATE:20231105T020000
END:STANDARD
BEGIN:DAYLIGHT
TZNAME:CDT
DTSTART:20220313T020000
TZOFFSETFROM:-0600
TZOFFSETTO:-0500
RDATE:20230312T020000
END:DAYLIGHT
END:VTIMEZONE
BEGIN:VEVENT
UID:e95c8ccd-b023-4e42-b20b-0c31ff9dd181
DTSTAMP:20260424T230655Z
DESCRIPTION:SGA Youth & Family Services’ virtual annual benefit “Building o
 n Promise” raises funds for the life-changing programs in our Cycle of Opp
 ortunity©. SGA helps children\, families and communities facing great chal
 lenges to realize their potential.\n\nOur speaker\, world-renowned psychia
 trist\, Dr. Bruce Perry\, has been an active teacher\, clinician and resea
 rcher in children’s mental health and neurosciences holding a variety of a
 cademic positions for the past 30 years. His work on the impact of abuse\,
  neglect and trauma on the developing brain has impacted clinical practice
 \, programs and policy across the world.\n\nJoin us online for an informat
 ive and inspiring event to learn about our work in Chicagoland.
DTSTART;TZID=America/Chicago:20220512T180000
DTEND;TZID=America/Chicago:20220512T183000
LOCATION:
SUMMARY:Virtual Annual Benefit 2022: 'Building on Promise'
END:VEVENT
END:VCALENDAR
