BEGIN:VCALENDAR
VERSION:2.0
PRODID:-//sga-youthorg.presencehost.net//NONSGML kigkonsult.se iCalcreator 
 2.30.10//
CALSCALE:GREGORIAN
METHOD:PUBLISH
UID:e2963472-5006-4306-8056-2e2a8fa845e0
X-WR-CALDESC:Let's celebrate the new addition to your family! Join us for g
 ames\, raffles prizes\, refreshments\, breastfeeding education\, and more.
  Meet other moms-to-be and discover resources to keep your new baby safe\,
  happy\, and healthy. Free to attend! Please RSVP by calling Irene (see ph
 one number below) or click the link below 'RSVP Here.'
X-WR-RELCALID:867d83e231d064c89c6a3d113f5778ec
X-WR-TIMEZONE:America/Chicago
BEGIN:VTIMEZONE
TZID:America/Chicago
BEGIN:STANDARD
TZNAME:CST
DTSTART:20211107T020000
TZOFFSETFROM:-0500
TZOFFSETTO:-0600
RDATE:20221106T020000
END:STANDARD
BEGIN:DAYLIGHT
TZNAME:CDT
DTSTART:20220313T020000
TZOFFSETFROM:-0600
TZOFFSETTO:-0500
RDATE:20230312T020000
END:DAYLIGHT
END:VTIMEZONE
BEGIN:VEVENT
UID:3b99c873-7486-437a-9a21-730d8e529d57
DTSTAMP:20260425T005439Z
DESCRIPTION:Let's celebrate the new addition to your family! Join us for ga
 mes\, raffles prizes\, refreshments\, breastfeeding education\, and more. 
 Meet other moms-to-be and discover resources to keep your new baby safe\, 
 happy\, and healthy. Free to attend! Please RSVP by calling Irene (see pho
 ne number below) or click the link below 'RSVP Here.'
DTSTART;TZID=America/Chicago:20220409T120000
DTEND;TZID=America/Chicago:20220409T150000
LOCATION:Advocate Trinity Medical Group\, 901 E. 95th St.\, Chicago\, IL 60
 617 US
SUMMARY:FREE Community Baby Shower
END:VEVENT
END:VCALENDAR
