BEGIN:VCALENDAR
VERSION:2.0
PRODID:-//sga-youthorg.presencehost.net//NONSGML kigkonsult.se iCalcreator 
 2.30.10//
CALSCALE:GREGORIAN
METHOD:PUBLISH
UID:655fb5fb-9c4f-4cc8-b7d0-1b24bbe78c3c
X-WR-CALDESC:Gather the family together and join us for our FREE Spring Fai
 r! Learn about community resources\, child development\, health & safety\,
  and so much more! Plus we will be giving away free gifts to every child 3
  and under. \n\nAll health and safety protocols will be followed.
X-WR-RELCALID:a760f66dd21db3e1702d1bd990331bb6
X-WR-TIMEZONE:America/Chicago
BEGIN:VTIMEZONE
TZID:America/Chicago
BEGIN:STANDARD
TZNAME:CST
DTSTART:20211107T020000
TZOFFSETFROM:-0500
TZOFFSETTO:-0600
RDATE:20221106T020000
END:STANDARD
BEGIN:DAYLIGHT
TZNAME:CDT
DTSTART:20220313T020000
TZOFFSETFROM:-0600
TZOFFSETTO:-0500
RDATE:20230312T020000
END:DAYLIGHT
END:VTIMEZONE
BEGIN:VEVENT
UID:5ca35336-0283-41bf-b7de-d9b77d9a814e
DTSTAMP:20260425T005320Z
DESCRIPTION:Gather the family together and join us for our FREE Spring Fair
 ! Learn about community resources\, child development\, health & safety\, 
 and so much more! Plus we will be giving away free gifts to every child 3 
 and under. \n\nAll health and safety protocols will be followed.
DTSTART;TZID=America/Chicago:20220402T100000
DTEND;TZID=America/Chicago:20220402T120000
LOCATION:Catholic Charities\, 1448 S. Wesley Ave.\, Berwyn\, IL 60402 US
SUMMARY:Prevention Initiative Spring Fair
END:VEVENT
END:VCALENDAR
